BEGIN:VCALENDAR
VERSION:2.0
PRODID:-//wp-events-plugin.com//7.2.3.1//EN
TZID:Europe/Zurich
X-WR-TIMEZONE:Europe/Zurich
BEGIN:VEVENT
UID:600@sac-saas.ch
DTSTART;TZID=Europe/Zurich;VALUE=DATE:20260613
DTEND;TZID=Europe/Zurich;VALUE=DATE:20260615
DTSTAMP:20251211T063228Z
URL:https://sac-saas.ch/events/combin-de-corbassiere-anmeldung-ab-13-05-20
 26/
SUMMARY:Combin de Corbassière / Anmeldung ab 13.05.2026
DESCRIPTION:Der Combin de Corbassière\, ein ausserordentlich auffälliger 
 Berg\, wurde in früheren Zeiten sogar mit dem Namen "Grand Combin" bedach
 t. Er steht sehr isoliert und bietet eine hervorragende Rundsicht\, vor al
 lem in das kolossale Amphitheater des Grand Combin und seiner Trabanten. V
 on der Cabane FXB-Panossière beherrscht der Combin de Corbassière auf Gr
 und seiner Nähe die Szene\, obwohl der "richtige" Grand Combin in der Fer
 ne durch seine kühle Würde stark beeindruckt. Wir steigen von der Cabane
  FXB-Panossière über den S-Grat auf und steigen über den W-Grat ab.\n\n
 \n\nAnmeldung ab:\n13.05.2026\n\n\nSchwierigkeit\nWS 2a\n\n\nEckdaten\n↑
 ↓ / ↑ ↓ 4:30–5:30 h\, 1120 Hm / 2:30–3 h\, 1120 Hm\n\n\nAusrü
 stung\nHochtourenausrüstung komplett\n\n\nTreffpunkt\nWird über Whatsapp
  kommuniziert\n\n\nTeilnehmerzahl\n9 inkl TL und SF\n\n\n\n&nbsp\;
CATEGORIES:SAC Tour
END:VEVENT
BEGIN:VTIMEZONE
TZID:Europe/Zurich
X-LIC-LOCATION:Europe/Zurich
BEGIN:DAYLIGHT
DTSTART:20260329T030000
TZOFFSETFROM:+0100
TZOFFSETTO:+0200
TZNAME:CEST
END:DAYLIGHT
END:VTIMEZONE
END:VCALENDAR