BEGIN:VCALENDAR
VERSION:2.0
PRODID:-//wp-events-plugin.com//7.2.3.1//EN
TZID:Europe/Zurich
X-WR-TIMEZONE:Europe/Zurich
BEGIN:VEVENT
UID:3@sac-saas.ch
DTSTART;TZID=Europe/Zurich;VALUE=DATE:20221001
DTEND;TZID=Europe/Zurich;VALUE=DATE:20221003
DTSTAMP:20221119T185543Z
URL:https://sac-saas.ch/events/clubtour-rund-um-die-weissmieshuette/
SUMMARY:Clubtour rund um die Weissmieshütte
DESCRIPTION:Aufgrund der unsicheren und ständig wechselnden Prognosen müs
 sen wir die Klettertour absagen. Die Wandergruppe startet am Samstag und w
 ird je nach Verhältnissen bis in die Grüebe und von dort runter ins Tal 
 laufen. \n\nTreffpunkt: 08.10 Bahnhof Stalden (Bahn 08:22 Uhr)\n\nMitnehm
 en: etwas Zwischenverpflegung\, wasserfeste Kleidung und Schuhe. Halbtax.
  \n\nDie Idee der Clubtour ist\, dass ob Wanderer\, Kletterer\, Bergsteig
 er\, jung oder alt\, jede*r dabei sein kann. Im Vordergrund steht sicher a
 uch das gemütliche Beisammensein auf der Weissmieshütte.\n\nWir haben u
 ns folgende Varianten überlegt:\n\nGruppe(n) 1 Samstag Gspon – Weissmie
 shütte\; Sonntag: Klettersteig oder Schwarzmies\n\nGruppe(n) 2 Samstag ei
 nfache Kletterrouten Maroca / Kusima\; Sonntag: Mehrseillängenroute Alpen
 durst oder Panorama\n\nJe nach Nachfrage bleiben wir programmmässig flexi
 bel. Es gibt auch Möglichkeiten bei vorgängigem Schneefall oder nicht so
  gutem Wetter etwas zu unternehmen. Also Wochenende frei halten und bis am
  19.09. anmelden (mit Angabe Variante)!\n\nKosten CHF 68.- Halbpension p
 lus CHF 20.- Tourenbeitrag (plus Getränke und Bahn)\n\n&nbsp\;\n\nEs freu
 en sich Carla\, Francine\, Diana\, Luca\, Theo und Sarah\n\n&nbsp\;\n\n\n\
 nSchwierigkeit\n\n\n\nEckdaten\n\n\n\nAusrüstung\n\n\n\nTreffpunkt\n\n\n\
 nTeilnehmer\n\n\n\n\n&nbsp\;
CATEGORIES:Hochtour,Klettern,Wanderung
END:VEVENT
BEGIN:VTIMEZONE
TZID:Europe/Zurich
X-LIC-LOCATION:Europe/Zurich
BEGIN:DAYLIGHT
DTSTART:20220327T030000
TZOFFSETFROM:+0100
TZOFFSETTO:+0200
TZNAME:CEST
END:DAYLIGHT
END:VTIMEZONE
END:VCALENDAR