BEGIN:VCALENDAR
VERSION:2.0
PRODID:-//wp-events-plugin.com//7.2.3.1//EN
TZID:Europe/Zurich
X-WR-TIMEZONE:Europe/Zurich
BEGIN:VEVENT
UID:211@sac-saas.ch
DTSTART;TZID=Europe/Zurich;VALUE=DATE:20240922
DTEND;TZID=Europe/Zurich;VALUE=DATE:20240923
DTSTAMP:20240918T160809Z
URL:https://sac-saas.ch/events/clean-up-cresta-biwak/
SUMMARY:Verschoben Clean-Up Cresta Biwak / Anmeldung ab 07.08.2024
DESCRIPTION:Text\n\n\n\nAnmeldung möglich ab:\n07.08.2024\n\n\nSchwierigke
 it\nT3\n\n\nEckdaten\n\n\n\nAusrüstung\nWanderausrüstung\, Picknick\, Ge
 tränke\n\n\nTreffpunkt\n10 Uhr Sesselift Richtung Heidbodme\n\n\nTeilnehm
 erzahl\n6\n\n\n\nFreue mich über jede/n der mithilft beim.Clean- up in un
 d um das Cresta Biwak.
CATEGORIES:Clubanlass,SAC Tour
END:VEVENT
BEGIN:VTIMEZONE
TZID:Europe/Zurich
X-LIC-LOCATION:Europe/Zurich
BEGIN:DAYLIGHT
DTSTART:20240331T030000
TZOFFSETFROM:+0100
TZOFFSETTO:+0200
TZNAME:CEST
END:DAYLIGHT
END:VTIMEZONE
END:VCALENDAR