BEGIN:VCALENDAR
VERSION:2.0
PRODID:-//wp-events-plugin.com//7.2.3.1//EN
TZID:Europe/Zurich
X-WR-TIMEZONE:Europe/Zurich
BEGIN:VEVENT
UID:63@sac-saas.ch
DTSTART;TZID=Europe/Zurich;VALUE=DATE:20230722
DTEND;TZID=Europe/Zurich;VALUE=DATE:20230724
DTSTAMP:20230121T203138Z
URL:https://sac-saas.ch/events/castore-und-pollux/
SUMMARY:Castore und Pollux / Anmeldung ab 01.06.2023
DESCRIPTION:&nbsp\;\n\n\n\nAnmeldung möglichab:\n01.06.2023\, 07:00\n\n\nS
 chwierigkeit\nWS\n\n\nEckdaten\n ↑ 450 Hm  ↓ 800 Hm ↑ 1050 Hm  
 ↓ 600 Hm\n\n\nAusrüstung\n\n\n\nTreffpunkt\n\n\n\nTeilnehmerzahl\n6 ink
 l TL + SF\n\n\n\n&nbsp\;
CATEGORIES:Hochtour,SAC Tour
END:VEVENT
BEGIN:VTIMEZONE
TZID:Europe/Zurich
X-LIC-LOCATION:Europe/Zurich
BEGIN:DAYLIGHT
DTSTART:20230326T030000
TZOFFSETFROM:+0100
TZOFFSETTO:+0200
TZNAME:CEST
END:DAYLIGHT
END:VTIMEZONE
END:VCALENDAR