BEGIN:VCALENDAR
VERSION:2.0
PRODID:-//wp-events-plugin.com//7.2.3.1//EN
TZID:Europe/Zurich
X-WR-TIMEZONE:Europe/Zurich
BEGIN:VEVENT
UID:431@sac-saas.ch
DTSTART;TZID=Europe/Zurich;VALUE=DATE:20250921
DTEND;TZID=Europe/Zurich;VALUE=DATE:20250922
DTSTAMP:20250919T112546Z
URL:https://sac-saas.ch/events/cai-treffen-strada-antronesca-anmeldung-ab-
 21-08-2025/
SUMMARY:CAI Treffen Strada Antronesca / Anmeldung ab 21.07.2025
DESCRIPTION:Unser diesjähriges Treffen mit CAI Villadossola am Sonntag 21.
 09.2025 findet statt.\nWir treffen uns um 06:50 auf dem Bahnhofplatz Visp 
 vor Coop Pronto und nehmen anschliessend den Zug 07:06 nach Brig/Domodosso
 la\, wo uns CAI mit einem Bus abholt. \nFür Verpflegung ist den ganzen T
 ag gesorgt. Bitte nehmt einen Regenschutz mit\, das Wetter könnte wechsel
 haft sein.\nIch freue mich\, mit euch zusammen einen unvergesslichen Tag i
 m Antronatal zu verbringen.\n\n&nbsp\;\n\nDas diesjährige Freundschaftstr
 effen mit dem CAI Villadossola führt uns entlang der historischen „Stra
 da Antronesca“ von Villadossola nach Antrona\, dem ersten Teilabschnitt 
 der Verbindung zwischen Ossola und dem Wallis. Der alte Maultierpfad feier
 t sein 30 jähriges Jubiläum.\n\nWir starten in Villadossola und folgen d
 em alten Saumpfad des Antrona-Tals\, durch Dörfer mit sehr alten Traditio
 nen. Nach 15.5 km Gehzeit erreichen wir Antrona. Mehrere Haltestellen unte
 rwegs und in verschiedenen Dörfern entlang der "Strada Antronesca" bieten
  uns die Möglichkeit\, uns zu verpflegen.\nUnsere italienischen Freunde w
 erden in ihren einheimischen Trachten teilnehmen.\n\nDas jährliche Treffe
 n mit CAI Villadossola ist immer wieder ein sehr schöner und froher Anlas
 s. Wir freuen uns auf viele Teilnehmer und einen unvergesslichen Tag im Ta
 l der "Autani".\n\n\n\nAnmeldung ab\n21.07.2025\n\n\nSchwierigkeit\nT2-T3\
 n\n\nEckdaten\nAufstieg 720 m\nAbstieg 90 m\nLänge 15.5 km\nGehzeit ca. 4
 Std 30 Min\n\n\nAusrüstung\nWanderausrüstung\, nach Lust und Laune in ei
 nheimischer Tracht\, evtl. Getränk. Verpflegung vor Ort und unterwegs ist
  organisiert.\n\n\nTreffpunkt\nBahnhof Visp Abfahrt Zug 07:06\, umsteigen 
 in Brig\, Abfahrt Brig Zug 07:20 nach Domodossola. Weiterfahrt mit Bus nac
 h Villadossola\; Rückfahrt 18:00 mit Bus von Antrona nach Domodossola\, A
 bfahrt 18:43 Zug nach Brig/Visp\; Busfahrten werden durch den CAI organisi
 ert\n\n\nTeilnehmerzahl\nmax. 30 Personen\n\n\n\n&nbsp\;
CATEGORIES:Clubanlass,SAC Tour
END:VEVENT
BEGIN:VTIMEZONE
TZID:Europe/Zurich
X-LIC-LOCATION:Europe/Zurich
BEGIN:DAYLIGHT
DTSTART:20250330T030000
TZOFFSETFROM:+0100
TZOFFSETTO:+0200
TZNAME:CEST
END:DAYLIGHT
END:VTIMEZONE
END:VCALENDAR