BEGIN:VCALENDAR
VERSION:2.0
PRODID:-//wp-events-plugin.com//7.2.3.1//EN
TZID:Europe/Zurich
X-WR-TIMEZONE:Europe/Zurich
BEGIN:VEVENT
UID:622@sac-saas.ch
DTSTART;TZID=Europe/Zurich;VALUE=DATE:20261004
DTEND;TZID=Europe/Zurich;VALUE=DATE:20261005
DTSTAMP:20260118T213042Z
URL:https://sac-saas.ch/events/cai-treffen-anmeldung-ab-04-09-2026/
SUMMARY:CAI-Treffen / Anmeldung ab 04.09.2026
DESCRIPTION:CAI-Treffen organisiert vom SAC Saas\n\n\n\nAnmeldung ab:\n04.0
 9.2026\n\n\nSchwierigkeit\nT2\n\n\nEckdaten\n\n\n\nAusrüstung\nDetails fo
 lgen\n\n\nTreffpunkt\nDetails folgen\n\n\nTeilnehmerzahl\n30\n\n\n\n&nbsp\
 ;
CATEGORIES:SAC Tour,Wanderung
END:VEVENT
BEGIN:VTIMEZONE
TZID:Europe/Zurich
X-LIC-LOCATION:Europe/Zurich
BEGIN:DAYLIGHT
DTSTART:20260329T030000
TZOFFSETFROM:+0100
TZOFFSETTO:+0200
TZNAME:CEST
END:DAYLIGHT
END:VTIMEZONE
END:VCALENDAR