BEGIN:VCALENDAR
VERSION:2.0
PRODID:-//wp-events-plugin.com//7.2.3.1//EN
TZID:Europe/Zurich
X-WR-TIMEZONE:Europe/Zurich
BEGIN:VEVENT
UID:505@sac-saas.ch
DTSTART;TZID=Europe/Zurich;VALUE=DATE:20260627
DTEND;TZID=Europe/Zurich;VALUE=DATE:20260628
DTSTAMP:20260401T080732Z
URL:https://sac-saas.ch/events/breithorn-centrale-anmeldung-ab-18-05-2026/
SUMMARY:Breithorn Centrale / Anmeldung ab 18.05.2026
DESCRIPTION:&nbsp\;\n\n\n\nAnmeldung ab:\n18.05.2026\n\n\nSchwierigkeit\nWS
 \n\n\nEckdaten\n↑↓ 400\n\n\nAusrüstung\nHochtourenausrüstung (Detail
 s folgen)\n\n\nTreffpunkt\nMatterhorn-Express\n\n\nTeilnehmerzahl\n4 / mit
  SF 8\n\n\n\n&nbsp\;
CATEGORIES:Hochtour,SAC Tour
END:VEVENT
BEGIN:VTIMEZONE
TZID:Europe/Zurich
X-LIC-LOCATION:Europe/Zurich
BEGIN:DAYLIGHT
DTSTART:20260329T030000
TZOFFSETFROM:+0100
TZOFFSETTO:+0200
TZNAME:CEST
END:DAYLIGHT
END:VTIMEZONE
END:VCALENDAR