BEGIN:VCALENDAR
VERSION:2.0
PRODID:-//wp-events-plugin.com//7.2.3.1//EN
TZID:Europe/Zurich
X-WR-TIMEZONE:Europe/Zurich
BEGIN:VEVENT
UID:364@sac-saas.ch
DTSTART;TZID=Europe/Zurich;VALUE=DATE:20250720
DTEND;TZID=Europe/Zurich;VALUE=DATE:20250721
DTSTAMP:20250719T041005Z
URL:https://sac-saas.ch/events/bouldern-im-saastal-anmeldung-ab-10-06-2025
 /
SUMMARY:Bouldern im Saastal / Anmeldung ab 10.06.2025
DESCRIPTION:Event findet statt. Das Wetter sollte mitspielen. Wir treffen u
 ns eingangs Saas-Almagell auf dem Parkplant - 09.30 Uhr\n\n https://maps.a
 pp.goo.gl/FU8gTWNtSr8pE6td9?g_st=com.google.maps.preview.copy \n\nBeim Bo
 uldern geht es nicht nur ums Klettern. Die richtige Platzierung der Matten
 \, das Spotten und die Technik sind matschentscheidend. Juan\, unser Guide
 \, wird uns eine Einführung geben. Dann werden wir uns an die einzelnen B
 oulder wagen.\n\n\n\n\n\n\n\nSchwierigkeit\nab 4c\n\n\nEckdaten\neiner der
  Boulder-Spotts im Saastal. Teilnehmen können Anfänger wie auch Experten
 .\n\n\nAusrüstung\nKletterfinken\, Magnesium\, bequeme Kleidung\, Essen u
 nd Trinken\n\n\nTreffpunkt\nTreffpunkt ca. 09.30 Uhr - Eingangs Saas-Almag
 ell auf dem Parplanz - Ende gegen 16.30 Uhr\n\n\nTeilnehmerzahl\n12\n\n\n\
 n&nbsp\;
CATEGORIES:SAC Tour
END:VEVENT
BEGIN:VTIMEZONE
TZID:Europe/Zurich
X-LIC-LOCATION:Europe/Zurich
BEGIN:DAYLIGHT
DTSTART:20250330T030000
TZOFFSETFROM:+0100
TZOFFSETTO:+0200
TZNAME:CEST
END:DAYLIGHT
END:VTIMEZONE
END:VCALENDAR