BEGIN:VCALENDAR
VERSION:2.0
PRODID:-//wp-events-plugin.com//7.2.3.1//EN
TZID:Europe/Zurich
X-WR-TIMEZONE:Europe/Zurich
BEGIN:VEVENT
UID:490@sac-saas.ch
DTSTART;TZID=Europe/Zurich;VALUE=DATE:20260719
DTEND;TZID=Europe/Zurich;VALUE=DATE:20260720
DTSTAMP:20251123T192844Z
URL:https://sac-saas.ch/events/bouldern-im-saastal-anmeldung-ab-01-06-2026
 /
SUMMARY:Bouldern im Saastal / Anmeldung ab 01.06.2026
DESCRIPTION:&nbsp\;\n\n\n\nAnmeldung ab:\n01.06.2025\n\n\nSchwierigkeit\nab
  5a\n\n\nEckdaten\n\n\n\nAusrüstung\nKletterfinken und Magnesium\,\n\n\nT
 reffpunkt\nwird noch bekannt gegeben\n\n\nTeilnehmerzahl\n10\n\n\n\n&nbsp\
 ;
CATEGORIES:Klettern,SAC Tour
END:VEVENT
BEGIN:VTIMEZONE
TZID:Europe/Zurich
X-LIC-LOCATION:Europe/Zurich
BEGIN:DAYLIGHT
DTSTART:20260329T030000
TZOFFSETFROM:+0100
TZOFFSETTO:+0200
TZNAME:CEST
END:DAYLIGHT
END:VTIMEZONE
END:VCALENDAR