BEGIN:VCALENDAR
VERSION:2.0
PRODID:-//wp-events-plugin.com//7.2.3.1//EN
TZID:Europe/Zurich
X-WR-TIMEZONE:Europe/Zurich
BEGIN:VEVENT
UID:328@sac-saas.ch
DTSTART;TZID=Europe/Zurich;VALUE=DATE:20250711
DTEND;TZID=Europe/Zurich;VALUE=DATE:20250717
DTSTAMP:20250622T172718Z
URL:https://sac-saas.ch/events/berner-oberland-8-0-anmeldung-ab-05-06-2025
 /
SUMMARY:Berner Oberland 8.0 / Anmeldung ab 05.06.2025
DESCRIPTION:Möchtest du ein paar 4000-er in einer Tour besteigen? Willst d
 u etwas Unvergessliches erleben? Dann melde dich noch heute an. Dieses Jah
 r erlaube ich eine spezielle Anmeldung. Hier folgt das offizielle Programm
 :\n\nTag 1\, Freitag 11. Juli 2025\n\nAufstieg zur Mönchsjochhütte am Na
 chmittag.\n\nTag 2\, Samstag 12. Juli 2025\n\nAufstieg auf dem Mönch (410
 7 Meter)\, Route wird noch bestimmt\, je nach Gruppe.\n\nTag 3\, Sonntag 1
 3. Juli 2025\n\nAufstieg auf dem Jungfrau (4159 Meter)\, erneut schlafen i
 n der Mönchsjochhütte.\n\nTag 4\, Montag 14. Juli 2025\n\nBesteigung der
  Fiescherhörner (4049+4025 Meter) mit Durchstieg zur Finsteraarhornhütte
 \n\nTag 5\, Dienstag 15. Juli 2025\n\nAufstieg zur Finsteraarhorn (4274 Me
 ter) und damit höchster Punkt der SAC-Tour\, erneut schlafen in der Finst
 eraarhornhütte\n\nTag 6\, Mittwoch 16. Juli 2025\n\nAbstieg ins Wallis\, 
 Route wird von entschieden.\n\nEs gibt neuerdings 2 Anmeldemöglichkeiten:
 \n\nTour 1: 11.-16. Juli\n\nTour 2: 11.-13. Juli\n\nTour 3: 13.-16. Juli\n
 \nUnbedingt eure Tournummer bei der Anmeldung angeben. Ich freue mich auf 
 viele Anmeldungen\n\n\n\nAnmeldung ab\n15.06.2025\n\n\nSchwierigkeit\nZS\n
 \n\nEckdaten\nMax. 1000 Hm pro Tag\n\n\nAusrüstung\nHochtourenausrüstung
 \n\n\nTreffpunkt\nNZB\n\n\nTeilnehmerzahl\n6 inkl. 2 TL\n\n\n\n&nbsp\;
CATEGORIES:SAC Tour
END:VEVENT
BEGIN:VTIMEZONE
TZID:Europe/Zurich
X-LIC-LOCATION:Europe/Zurich
BEGIN:DAYLIGHT
DTSTART:20250330T030000
TZOFFSETFROM:+0100
TZOFFSETTO:+0200
TZNAME:CEST
END:DAYLIGHT
END:VTIMEZONE
END:VCALENDAR