BEGIN:VCALENDAR
VERSION:2.0
PRODID:-//wp-events-plugin.com//7.2.3.1//EN
TZID:Europe/Zurich
X-WR-TIMEZONE:Europe/Zurich
BEGIN:VEVENT
UID:214@sac-saas.ch
DTSTART;TZID=Europe/Zurich;VALUE=DATE:20240622
DTEND;TZID=Europe/Zurich;VALUE=DATE:20240624
DTSTAMP:20240607T172552Z
URL:https://sac-saas.ch/events/bergtour-piz-borel-piz-ravetsch-anmeldung-a
 b-01-05-2024/
SUMMARY:Bergtour /  Piz Borel &amp\; Piz Ravetsch
DESCRIPTION:Tourenwochenende im Oberalpgebiet\n\n-&gt\; Anmeldeschluss ist 
 vorbei. Es wird keine Anmeldung aus organisatorischen Gründen mehr entgeg
 engenommen.\n\n\n\nAnmeldung möglich ab:\n01.05.2024\n\n\nSchwierigkeit\n
 K2 / WS\n\n\nEckdaten\n↑1100  ↓ 1100\n\n\nAusrüstung\nHochtourenausr
 üstung\, 1/2 Tax\, Hüttenschlafsack\, Gamaschen\, Klettersteigset\, Gart
 enhandschuhe\n\n\nTreffpunkt\nWird noch bekannt gegeben\n\n\nTeilnehmerzah
 l\n3 TN + 1 SF (Diana) + 1 TL (Alessandro)\n\n\n\nInformationen zum SAC To
 urenwochenende im Oberalpgebiet:\n\nSamstag: – Anreise in Richtung Ander
 matt\n\n– Je nach Teilnehmerinteresse besteht die Möglichkeit den Klett
 ersteig Diavolo in der Schöllenenschlucht zu absolvieren. Alternativ kann
  auch auf einen anderen Klettersteig ausgewichen werden.\n\n– Zustieg Ve
 rmigelshütte\, Aufstieg 500hm\n\n– Übernachtung Vermigelshütte\n\n&nb
 sp\;\n\nSonntag: – Aufstieg zum Piz Borel\, Aufstieg 1100hm\n\n– Trave
 rsierung zum Piz Ravetsch\n\n– Abstieg vom Piz Ravetsch\n\n– Gemeinsam
 es Mittagessen in der Camona da Maighels\, Abstieg 700hm\n\n– Wanderung 
 zurück zum Oberalppass. Rückreise mit ÖV.\n\n&nbsp\;\n\n\n\nPiz Borel u
 nd Piz Ravetsch geben an den Kantonsgrenzen Uri und Graubünden viel schö
 nes zu entdecken.\n\n&nbsp\;\n\nSchlechtwetter: Ich werde mich bemühen ei
 n Schlechtwetterprogramm für euch parat zu haben. Das Programm kann allf
 ällige Abweichungen bezüglich Ort und Unternehmung haben. In der Regel i
 st es bei mir so\, dass wir eine Hüttenübernachtung durchführen.\n\nTei
 lnehmerbedingungen: Das Tourenwochenende ist genau das richtige für Neuei
 nsteiger / Keine Hochtourenerfahrung nötig / Teilnehmer die eine neue Lan
 dschaft erkunden möchten\n\nNach abgeschlossenem Anmeldeprozedere:  Es w
 ird eine Whatsapp-Chatgruppe geben mit weiteren konkreten Informationen zu
 r Tour.\n\n&nbsp\;\n\nFreue mich über eure Anmeldung und über deine erst
 e Tour!\n\nAlessandro
CATEGORIES:SAC Tour
END:VEVENT
BEGIN:VTIMEZONE
TZID:Europe/Zurich
X-LIC-LOCATION:Europe/Zurich
BEGIN:DAYLIGHT
DTSTART:20240331T030000
TZOFFSETFROM:+0100
TZOFFSETTO:+0200
TZNAME:CEST
END:DAYLIGHT
END:VTIMEZONE
END:VCALENDAR