BEGIN:VCALENDAR
VERSION:2.0
PRODID:-//wp-events-plugin.com//7.2.3.1//EN
TZID:Europe/Zurich
X-WR-TIMEZONE:Europe/Zurich
BEGIN:VEVENT
UID:150@sac-saas.ch
DTSTART;TZID=Europe/Zurich;VALUE=DATE:20230810
DTEND;TZID=Europe/Zurich;VALUE=DATE:20230814
DTSTAMP:20230514T080107Z
URL:https://sac-saas.ch/events/bergtour-flueela-albulapass-anmeldung-ab-10
 -06-2023/
SUMMARY:Bergtour Flüela-Albulapass / Anmeldung ab 10.06.2023
DESCRIPTION:Das Graubünden lädt ein für lange Wanderungen mit Hochalpinf
 lair. Neben stundenlange Wanderungen gibt es auch den eine oder andere Gip
 fel die wir besteigen werden. Bereits zum 3. Mal organisiere ich ein Bergt
 our von der eine Alpine Hochpassstrasse zu den Anderen. Seid ihr neugierig
 ? Dann meldet euch an:\n\nTag 1\n\nStartpunkt ist der Flüelapass auf 2384
  Meter. Übernachtung in der Chamanna da Grialetsch auf 2540 Meter.\n\nTag
  2\n\nWanderung mit Berggipfel bis zur Keschhütte auf 2627 Meter.\n\nTag 
 3\n\nBerggipfelbesteigung und Abstieg zur Chamanna d'Es-cha auf 2594 Meter
 .\n\nTag 4\n\nEntspannte Wanderung zurück zur Albulapass und Rückreise i
 ns Wallis\n\n\n\nAnmeldung möglich ab:\n10.06.2023\, 07:00\n\n\nSchwierig
 keit\nBis WS+\n\n\nEckdaten\n ↑ 3000 Hm  ↓ 3300 Hm -&gt\; Bis zu 7h\
 n\n\nAusrüstung\nHochtourenausrüstung\n\n\nTreffpunkt\nNoch zu bestimmen
 \n\n\nTeilnehmerzahl\n8\n\n\n\n&nbsp\;
CATEGORIES:SAC Tour
END:VEVENT
BEGIN:VTIMEZONE
TZID:Europe/Zurich
X-LIC-LOCATION:Europe/Zurich
BEGIN:DAYLIGHT
DTSTART:20230326T030000
TZOFFSETFROM:+0100
TZOFFSETTO:+0200
TZNAME:CEST
END:DAYLIGHT
END:VTIMEZONE
END:VCALENDAR