BEGIN:VCALENDAR
VERSION:2.0
PRODID:-//wp-events-plugin.com//7.2.3.1//EN
TZID:Europe/Zurich
X-WR-TIMEZONE:Europe/Zurich
BEGIN:VEVENT
UID:416@sac-saas.ch
DTSTART;TZID=Europe/Zurich;VALUE=DATE:20250824
DTEND;TZID=Europe/Zurich;VALUE=DATE:20250825
DTSTAMP:20250813T190309Z
URL:https://sac-saas.ch/events/bergtour-dents-du-midi-3257m-anmeldung-ab-2
 4-07/
SUMMARY:Bergtour Dents du Midi 3257m / Anmeldung ab 24.07.25
DESCRIPTION:\n 	Die imposante Bergkette der Dents du Midi besticht immer wi
 eder\, wenn man ins Chablais Richtung Genfersee fährt. Schön\, mal auf d
 er Haute Cime zu stehen.\n\nWir werden die Dents du Midi von Champéry aus
  in Angriff nehmen und in der Cabane de Susanfe übernachten. Anderntags s
 teigen wir über den Col de Susanfe auf den Gipfel der Haute Cime\, zurüc
 k zum Col und dann Richtung Lac de Salanfe. Von dort wandern wir ins wilde
  Vallon de Van\, wo wir in Van-d'en-Bas ins Postauto steigen werden.\n\n\n
 \n\n24.07.2025\n\n\nSchwierigkeit\nT4 Bergwandern\n\n\nEckdaten\nSo 1100m
 ↑\, Mo 1150m↑ und 2000↓\n\n\nAusrüstung\nBergwanderausrüstunng\, W
 anderschuhe\, Stöcke empfehlenswert\, Lunch\, Seidenschlafsack\n\n\nTreff
 punkt\nwird kurz vorher bekannt gegeben\, teils ÖV\n\n\nTeilnehmerzahl\n6
  inkl TL Diana\n\n\n\n&nbsp\;
CATEGORIES:SAC Tour
END:VEVENT
BEGIN:VTIMEZONE
TZID:Europe/Zurich
X-LIC-LOCATION:Europe/Zurich
BEGIN:DAYLIGHT
DTSTART:20250330T030000
TZOFFSETFROM:+0100
TZOFFSETTO:+0200
TZNAME:CEST
END:DAYLIGHT
END:VTIMEZONE
END:VCALENDAR