BEGIN:VCALENDAR
VERSION:2.0
PRODID:-//wp-events-plugin.com//7.2.3.1//EN
TZID:Europe/Zurich
X-WR-TIMEZONE:Europe/Zurich
BEGIN:VEVENT
UID:195@sac-saas.ch
DTSTART;TZID=Europe/Zurich;VALUE=DATE:20240810
DTEND;TZID=Europe/Zurich;VALUE=DATE:20240812
DTSTAMP:20240805T191421Z
URL:https://sac-saas.ch/events/bergtour-cresta-di-saas-anmeldung-ab-01-07-
 2024/
SUMMARY:Bergtour Cresta di Saas / Anmeldung ab 01.07.2024
DESCRIPTION:Bei der Cresta di Saas handelt es sich um einen gut 3\,5 km lan
 gen Felsgrat\, der das Latelhorn mit dem Sonnighorn verbindet. Auf diesem 
 befinden sich etwa ein Dutzend kleinerer Gipfel und Scharten\, die nachein
 ander überschritten werden. Die Cresta di Saas scheint das Ende der Penni
 nischen Alpen darzustellen. Im W steigen die Hänge relativ sanft vom Hoch
 tal des Furggtälli auf. Drei Gratkämme laufen fast parallel zum Furggtä
 lli hin: Peterrück\, Kehrenrück und Börterrück. Im E bricht die Cresta
  di Saas unvermittelt und bodenlos ab bis nach Antronapiana (ca. 910 m) hi
 nunter. Diese massive Wand wird von einem langen Grat (Coronette di Campos
 ecco) unterbrochen\, der im rechten Winkel von der Cresta di Saas nach E a
 usläuft. Der Name (Saasergrat) wird in Italien benutzt. Die Saaser haben 
 weder die Kette\, noch die meisten ihrer Gipfel getauft. Obwohl die Cresta
  di Saas auf den ersten Blick recht trostlos erscheint\, weist sie auf dem
  Gratkamm leidlich guten Fels auf.\n\nVon: https://www.sac-cas.ch/de/huett
 en-und-touren/sac-tourenportal/1824/alpine_tour/5070\n\n\n\nAnmeldung mög
 lich ab:\n01.07.2024\n\n\nSchwierigkeit\nZS\, 3a\n\n\nEckdaten\n800Hm Aufs
 tieg\, 350Hm Abstieg\n\n\nAusrüstung\nKlettergurt\, Helm\, Steigeisen\, P
 ickel\, Abseilgerät\, 2 Schraubkarabiner\, Rebschnurr\, Handschuhe\, Müt
 ze\, Seidenschlafsack\, Stirnlampe\nzusätzlich für Seilführer: 40m Seil
 \, Sicherungsmaterial\,\nNachtessen und Frühstück werden von den Tourenl
 eitern organisiert und dann auf die Teilnehmer verteilt. Proviant und Trin
 ken für die eigentliche Tour.\n\n\nTreffpunkt\nSa. 10.08.24 Saas-Almagell
 \, Dorfplatz 11.15 Uhr\n\n\nTeilnehmerzahl\n6 Teilnehmer inkl. 3 Tourenlei
 ter\n\n\n\n&nbsp\;
CATEGORIES:Bergtour,SAC Tour
END:VEVENT
BEGIN:VTIMEZONE
TZID:Europe/Zurich
X-LIC-LOCATION:Europe/Zurich
BEGIN:DAYLIGHT
DTSTART:20240331T030000
TZOFFSETFROM:+0100
TZOFFSETTO:+0200
TZNAME:CEST
END:DAYLIGHT
END:VTIMEZONE
END:VCALENDAR