BEGIN:VCALENDAR
VERSION:2.0
PRODID:-//wp-events-plugin.com//7.2.3.1//EN
TZID:Europe/Zurich
X-WR-TIMEZONE:Europe/Zurich
BEGIN:VEVENT
UID:144@sac-saas.ch
DTSTART;TZID=Europe/Zurich;VALUE=DATE:20230617
DTEND;TZID=Europe/Zurich;VALUE=DATE:20230618
DTSTAMP:20230617T110846Z
URL:https://sac-saas.ch/events/bergtour-bortelhorn-anmeldung-ab-18-04-2023
 /
SUMMARY:Abgesagt-Bergtour Bortelhorn / Anmeldung ab 18.04.2023
DESCRIPTION:&nbsp\;\n\n\n\nAnmeldung möglich ab:\n18.04.2023\, 07:00\n\n\n
 Schwierigkeit\nWS\n\n\nEckdaten\n ↑ 1800 Hm  ↓ 1800 Hm -&gt\; x 9h\n
 \n\nAusrüstung\nKlettergurt\, Helm\, Pickel\, Steigeisen\, Kopflampe\, Ka
 rabiner\n\n\nTreffpunkt\nBerisal 4.30 Uhr\n\n\nTeilnehmerzahl\n4\n\n\n\nFr
 eu mit euch auf den dominanten Berg zu gehen.\nWer möchte kann auch von d
 er Hütte aus starten.\nIm Moment hat es noch plätze frei. Bitte selber a
 nmelden.
CATEGORIES:SAC Tour
END:VEVENT
BEGIN:VTIMEZONE
TZID:Europe/Zurich
X-LIC-LOCATION:Europe/Zurich
BEGIN:DAYLIGHT
DTSTART:20230326T030000
TZOFFSETFROM:+0100
TZOFFSETTO:+0200
TZNAME:CEST
END:DAYLIGHT
END:VTIMEZONE
END:VCALENDAR