BEGIN:VCALENDAR
VERSION:2.0
PRODID:-//wp-events-plugin.com//7.2.3.1//EN
TZID:Europe/Zurich
X-WR-TIMEZONE:Europe/Zurich
BEGIN:VEVENT
UID:199@sac-saas.ch
DTSTART;TZID=Europe/Zurich;VALUE=DATE:20240414
DTEND;TZID=Europe/Zurich;VALUE=DATE:20240415
DTSTAMP:20240129T201251Z
URL:https://sac-saas.ch/events/baerlauch-sammeln-suedrampe/
SUMMARY:Bärlauch sammeln Südrampe / Anmeldung ab 14.03.2024
DESCRIPTION:Wanderung von Eggerberg bis Naters über die Südrampe. Unterwe
 gs werden wir überrascht von Felder voller Bärlauch.\n\n\n\nAnmeldung m
 öglich ab:\n14.03.2024\n\n\nSchwierigkeit\nT2\n\n\nEckdaten\n↑ 450 ↓ 
 630       12km\n\n\nAusrüstung\nWanderausrüstung und Verpflegung\n\n\
 nTreffpunkt\nBrig Bahnhof\n\n\nTeilnehmerzahl\n10\n\n\n\n&nbsp\;
CATEGORIES:SAC Tour,Wanderung
END:VEVENT
BEGIN:VTIMEZONE
TZID:Europe/Zurich
X-LIC-LOCATION:Europe/Zurich
BEGIN:DAYLIGHT
DTSTART:20240331T030000
TZOFFSETFROM:+0100
TZOFFSETTO:+0200
TZNAME:CEST
END:DAYLIGHT
END:VTIMEZONE
END:VCALENDAR