BEGIN:VCALENDAR
VERSION:2.0
PRODID:-//wp-events-plugin.com//7.2.3.1//EN
TZID:Europe/Zurich
X-WR-TIMEZONE:Europe/Zurich
BEGIN:VEVENT
UID:426@sac-saas.ch
DTSTART;TZID=Europe/Zurich;VALUE=DATE:20250608
DTEND;TZID=Europe/Zurich;VALUE=DATE:20250609
DTSTAMP:20250503T131906Z
URL:https://sac-saas.ch/events/ausbildungskurs-weiterbildung-firn-eis-anme
 ldung-ab-08-05-2025/
SUMMARY:Ausbildungskurs Weiterbildung Firn\, Eis / Anmeldung ab 08.05.2025
DESCRIPTION:Als Ziel dieser Weiterbildung werden wir uns im Detail mit den 
 Knoten für die\nimprovisierte Rettung (Blockierungsknoten\, Prohaska\, Kl
 emmknoten\, gesteckter Prusik\,\netc. etc.)\, den verschiedenen Anseilarte
 n\, der Seilverkürzung\, der richtigen Steigeisen-\,\nPickel- und Seiltec
 hnik befassen. Zudem werden wir unter anderem die folgende\nThemen und Sch
 werpunkte im Detail behandeln: die Seilschaft auf dem Gletscher\,\nGehen u
 nd Seiltechnik auf dem Gletscher\, Gehen am kurzen Seil im Firn\,\nMitreis
 sprobelmatik\, Liegestütztechnik und Pickelrettungsgriff\, Verankerungen 
 im\nSchnee\, Firn und Eis\, Spaltensturz\, doppelter Flaschenzug\, Österr
 eicher Flaschenzug\,\nSelbstaufstieg aus der Spalte.\n\nAusrüstung für G
 rund- und Fortgeschrittenenkurs:\n• Anseilgurt\n• Steigeisen mit Antis
 tollplatten\n• Pickel\n• Helm\n• 30 - 40m Seil für Übungen\n• Pe
 rsönliches Material für Verankerungen\, Flaschenzüge und Selbstaufstieg
 \nJeder sollte im Minimum das folgende Material bei sich haben\, das zu de
 r Hochtouren\nGrundausrüstung gehört\n• 6 Karabiner\, davon mindestens
  4 Schraubkarabiner\n• 2 kurze Prusikschlingen\n• 1 lange 5 - 6m Prusi
 kschlinge\n• 1 Dyneema oder Bandschlinge\n• 2 Eisschrauben\n• 1 Rope
 man oder Micro Traxion\n• 1 Petzl Tibloc\n• evt. Überziehhose und Ers
 atzhandschuhe für Mitreissübungen\n• Zwischenverpflegung\n• Persönl
 iches Material (inklusive Sonnenschutz\, dünne Daunenjacke\, etc.)\nVorge
 sehener Ausbildungsort für Grund- und Fortgeschrittenenkurs:\nKreuzboden 
 – Hohsaas – Triftgletscher\nTreffpunkt: 07:30 Talstation Bergbahnen Sa
 as Grund/Hohsaas\nTeilnehmerzahl: 16\n\n\n\n\n\n\n\nSchwierigkeit\nWeiterb
 ildung\n\n\nEckdaten\n\n\n\nAusrüstung\nSiehe oben\n\n\nTreffpunkt\n07:30
  Talstation Bergbahnen Saas Grund/Hohsaas\n\n\nTeilnehmerzahl\n16\n\n\n\n&
 nbsp\;
CATEGORIES:SAC Tour
END:VEVENT
BEGIN:VTIMEZONE
TZID:Europe/Zurich
X-LIC-LOCATION:Europe/Zurich
BEGIN:DAYLIGHT
DTSTART:20250330T030000
TZOFFSETFROM:+0100
TZOFFSETTO:+0200
TZNAME:CEST
END:DAYLIGHT
END:VTIMEZONE
END:VCALENDAR