BEGIN:VCALENDAR
VERSION:2.0
PRODID:-//wp-events-plugin.com//7.2.3.1//EN
TZID:Europe/Zurich
X-WR-TIMEZONE:Europe/Zurich
BEGIN:VEVENT
UID:423@sac-saas.ch
DTSTART;TZID=Europe/Zurich;VALUE=DATE:20250531
DTEND;TZID=Europe/Zurich;VALUE=DATE:20250601
DTSTAMP:20250503T133747Z
URL:https://sac-saas.ch/events/ausbildungskurs-orientierung-anmeldung-ab-3
 0-04-2025/
SUMMARY:Ausbildungskurs Orientierung / Anmeldung ab 30.04.2025
DESCRIPTION:Die Planung einer Hochtour ist um vieles komplexer als die Plan
 ung einer normalen\nWanderung. Für eine erfolgreiche Tour ist deshalb die
  Vorbereitung zuhause das A &amp\; O.\n\nJe genauer du dich vorbereitest\,
  desto weniger Überraschungen wirst du erleben\nund umso genussvoller und
  sicherer wird das Erlebnis.\nAuch bei einer guten Wetterprognose können
  wir in den Bergen schnell einmal von\neinem Wetterwechsel oder Nebel übe
 rrascht werden. Die Orientierung in den Bergen\nbei schlechter Sicht ist 
 eine knifflige Sache\, die nicht nur gute Fähigkeiten im Lesen\ntopografi
 scher Karten erfordert\, sondern auch einen kompetenten Umgang mit\nKompa
 ss und Höhenmesser und viel Übung und Routine voraussetzt. Seit dem Einz
 ug\nder GPS-Technik hat sich sich vieles verändert und vereinfacht. Wir 
 werden uns daher\ndie digitalen Tools und deren Anwendung im Detail anscha
 uen.\n• Wie komme ich zur Tourenidee ?\n• Tourenplanung und -vorbereit
 ung. Kurze Abhandlung über Standards zur\nTourenplanung.\n• Kartenlesen
  als Bergsteiger - wichtige Infos aus den Kartensymbolen zur\nEntscheidung
 shilfe vor und auf der Tour.\n• Digitale Tools (White Risk\, Schweiz Mob
 il\, Swissmap\, Rega App) ihre Vorteile und ihre\nGrenzen.\n• Allgemeine
 s zu den weiteren Orientierungsmittel (GPS\, Höhenmesser\, Kompass) und\n
 deren Anwendung\n• Praktische Übungen\n\nMittagessen: Hotel Alpha\nRefe
 rent: André Henzen\n\n\n\n\n\n\n\nSchwierigkeit\nWeiterbildung\n\n\nEckda
 ten\n\n\n\nAusrüstung\nBetreffend Material für die Teilnehmer werde ich 
 mich noch melden.\n\n\nTreffpunkt\nSchulhaus - Saas Grund\, 08:45 (09:00 
 – 16:00)\n\n\nTeilnehmerzahl\n20 (Dieser Kurs steht auch den Bergführer
 n im Rahmen ihrer\nWeiterbildung offen.)\n\n\n\n&nbsp\;
CATEGORIES:Ausbildungskurs,SAC Tour
END:VEVENT
BEGIN:VTIMEZONE
TZID:Europe/Zurich
X-LIC-LOCATION:Europe/Zurich
BEGIN:DAYLIGHT
DTSTART:20250330T030000
TZOFFSETFROM:+0100
TZOFFSETTO:+0200
TZNAME:CEST
END:DAYLIGHT
END:VTIMEZONE
END:VCALENDAR