BEGIN:VCALENDAR
VERSION:2.0
PRODID:-//wp-events-plugin.com//7.2.3.1//EN
TZID:Europe/Zurich
X-WR-TIMEZONE:Europe/Zurich
BEGIN:VEVENT
UID:424@sac-saas.ch
DTSTART;TZID=Europe/Zurich;VALUE=DATE:20250601
DTEND;TZID=Europe/Zurich;VALUE=DATE:20250602
DTSTAMP:20250503T133859Z
URL:https://sac-saas.ch/events/ausbildungskurs-meteorologie-anmeldung-ab-0
 1-05-2025/
SUMMARY:Ausbildungskurs Meteorologie / Anmeldung ab 01.05.2025
DESCRIPTION:Ein Grundkurs in Meteorologie ist für Bergsteiger und Alpinist
 en unbedingt notwendig\,\nda das Wetter in den Bergen schnell und unvorher
 sehbar wechseln kann. Ein solcher\nKurs vermittelt wichtiges Wissen über 
 die Entstehung von Wetterphänomenen\, die\nInterpretation von Wetterkarte
 n und -vorhersagen sowie die Einschätzung von\nWetterrisiken in alpinen G
 ebieten. Dieses Verständnis ist entscheidend für die Planung\nvon Touren
  und die sichere Durchführung von Bergaktivitäten\, da es hilft\, potenz
 iell\ngefährliche Situationen frühzeitig zu erkennen und angemessen zu r
 eagieren.\n\nDie tragischen Ereignisse der letzten Jahre und Wochen zeigen
  deutlich\, wie wichtig es\nist\, sich mit Meteorologie\, Tourenplanung un
 d Navigation auseinanderzusetzen. Diese\nGrundkenntnisse sind entscheidend
 \, um die Sicherheit in den Bergen zu gewährleisten.\n\nUnter anderem wer
 den wir folgende Themen behandeln:\n1. Grundlagen der Meteorologie\, Wette
 r Schweiz: Verständnis von\nWetterphänomenen\, Lesen\, Verstehen und Int
 erpretieren von Wetterkarten und -\nvorhersagen\, Luftdruck und Höhenmess
 er\, Wetterlagen\, Niederschlag\,\nTemperatur\, Wind\, Wolken\, Wetterrege
 ln\, etc.\n2. Das Smartphone als Online-Informationsquelle unterwegs\n3. L
 okale Wetterphänomene in Bergregionen: Föhn\, Staulagen\, Gewitter\,\nSc
 hneeverhältnisse usw.\n4. Wetterbeobachtung: Praktische Anleitung zur Beo
 bachtung und Interpretation\ndes aktuellen Wetters vor Ort.\n5. Planung vo
 n Touren: Einfluss des Wetters auf die Tourenplanung\, Auswahl von\ngeeign
 eten Routen und Notfallpläne.\n6. Kritische Wetterlagen im Hochgebirge un
 d richtige Reaktion in Notsituationen\n\nMittagessen: Hotel Alpha\nReferen
 t: André Henzen\n\n\n\n\n\n\n\nSchwierigkeit\nWeiterbildung\n\n\nEckdaten
 \n\n\n\nAusrüstung\n\n\n\nTreffpunkt\nSchulhaus - Saas Grund\, 08:45 (09:
 00 – 16:00)\n\n\nTeilnehmerzahl\n20 (Dieser Kurs steht auch den Bergfüh
 rern im Rahmen ihrer\nWeiterbildung offen.)\n\n\n\n&nbsp\;
CATEGORIES:Ausbildungskurs,SAC Tour
END:VEVENT
BEGIN:VTIMEZONE
TZID:Europe/Zurich
X-LIC-LOCATION:Europe/Zurich
BEGIN:DAYLIGHT
DTSTART:20250330T030000
TZOFFSETFROM:+0100
TZOFFSETTO:+0200
TZNAME:CEST
END:DAYLIGHT
END:VTIMEZONE
END:VCALENDAR