BEGIN:VCALENDAR
VERSION:2.0
PRODID:-//wp-events-plugin.com//7.2.3.1//EN
TZID:Europe/Zurich
X-WR-TIMEZONE:Europe/Zurich
BEGIN:VEVENT
UID:425@sac-saas.ch
DTSTART;TZID=Europe/Zurich;VALUE=DATE:20250607
DTEND;TZID=Europe/Zurich;VALUE=DATE:20250608
DTSTAMP:20250503T131639Z
URL:https://sac-saas.ch/events/ausbildungskurs-grundkurs-firn-und-eis-anme
 ldung-ab-07-05-2025/
SUMMARY:Ausbildungskurs Grundkurs Firn und Eis / Anmeldung ab 07.05.2025
DESCRIPTION:Wer sicher und mit Genuss im Hochgebirge unterwegs sein will\, 
 muss im Firn und Eis\ngute Grundkenntnisse haben. Materialkenntnisse\, sow
 ie der richtige Umgang mit\nSteigeisen\, Pickel und Seil sind Voraussetzun
 g. Als Teil dieser Grundausbildung\nwerden wir uns mit den wichtigsten Kno
 ten\, dem Anseilen\, der Seilverkürzung\, den\nGrundkenntnissen der Seilh
 andhabung im Firn und auf dem Gletscher\, der Steigeisen-\,\nPickel- und S
 eiltechnik befassen. Zudem werden wir uns einen Einblick in das Stoppen\ne
 ines Ausrutschers\, die Verankerungen im Firn\, Eis und Schnee sowie der e
 infachen\nSpaltenrettung verschaffen.\n\nAusrüstung für Grund- und Fortg
 eschrittenenkurs:\n• Anseilgurt\n• Steigeisen mit Antistollplatten\n
 • Pickel\n• Helm\n• 30 - 40m Seil für Übungen\n• Persönliches M
 aterial für Verankerungen\, Flaschenzüge und Selbstaufstieg\n\nJeder sol
 lte im Minimum das folgende Material bei sich haben\, das zu der Hochtoure
 n\nGrundausrüstung gehört\n• 6 Karabiner\, davon mindestens 4 Schraubk
 arabiner\n• 2 kurze Prusikschlingen\n• 1 lange 5 - 6m Prusikschlinge\n
 • 1 Dyneema oder Bandschlinge\n• 2 Eisschrauben\n• 1 Ropeman oder Mi
 cro Traxion\n• 1 Petzl Tibloc\n• evt. Überziehhose und Ersatzhandschu
 he für Mitreissübungen\n• Zwischenverpflegung\n• Persönliches Mater
 ial (inklusive Sonnenschutz\, dünne Daunenjacke\, etc.)\nVorgesehener Aus
 bildungsort für Grund- und Fortgeschrittenenkurs:\nKreuzboden – Hohsaas
  – Triftgletscher\nTreffpunkt: 07:30 Talstation Bergbahnen Saas Grund/Ho
 hsaas\nTeilnehmerzahl: 16\n\n&nbsp\;\n\n\n\n\n\n\n\nSchwierigkeit\nWeiterb
 ildung\n\n\nEckdaten\nKreuzboden – Hohsaas – Triftgletscher\n\n\nAusr
 üstung\nSiehe oben\n\n\nTreffpunkt\n07:30 Talstation Bergbahnen Saas Grun
 d/Hohsaas\n\n\nTeilnehmerzahl\n16\n\n\n\n&nbsp\;
CATEGORIES:Ausbildungskurs,SAC Tour
END:VEVENT
BEGIN:VTIMEZONE
TZID:Europe/Zurich
X-LIC-LOCATION:Europe/Zurich
BEGIN:DAYLIGHT
DTSTART:20250330T030000
TZOFFSETFROM:+0100
TZOFFSETTO:+0200
TZNAME:CEST
END:DAYLIGHT
END:VTIMEZONE
END:VCALENDAR