BEGIN:VCALENDAR
VERSION:2.0
PRODID:-//wp-events-plugin.com//7.2.3.1//EN
TZID:Europe/Zurich
X-WR-TIMEZONE:Europe/Zurich
BEGIN:VEVENT
UID:428@sac-saas.ch
DTSTART;TZID=Europe/Zurich;VALUE=DATE:20250615
DTEND;TZID=Europe/Zurich;VALUE=DATE:20250616
DTSTAMP:20250503T133546Z
URL:https://sac-saas.ch/events/ausbildungskurs-gehen-am-kurzen-seil-anmeld
 ung-ab-15-05-2025/
SUMMARY:Ausbildungskurs Gehen am kurzen Seil / Anmeldung ab 15.05.2025
DESCRIPTION:Das Gehen am kurzen Seil im Fels\, Eis\, Firn und im kombiniert
 en Gelände ist neben\nder Lawinenfrage sicher das komplexeste und heikel
 ste Thema. Es verlangt grosse\nErfahrung. Genaues Beurteilen der jeweilige
 n Situation\, richtiges Entscheiden und\nentsprechendes Verhalten sind vo
 n grösster Wichtigkeit. Es ist somit in seiner\nKomplexität auch in der 
 Ausbildung ein Thema\, welches sehr viel Zeit in Anspruch\nnimmt und stä
 ndig gelehrt und praktiziert werden muss. Verhältnisse – Gelände –\
 nMensch sind die entscheidenden Faktoren die der Seilführende in sein\nR
 isikomanagement einbeziehen muss.\nJede Situation am Berg ist letztendlich
  einzigartig. Es gibt\nunzählige Kombinationsmöglichkeiten aus verschie
 denen Parametern. Während der\nAusbildung werden wir in Verbindung mit G
 esprächen und Diskussionen das Gehen am\nkurzen Seil praxisbezogen im en
 tsprechenden Gelände üben.\n\nKlettergurt\n Helm\n Kletterfinken\n
  Sicherungsschlinge\n 3 HMS Karabiner\n 1 Sicherungs-\, Abseilger
 ät (ATC\, etc.)\n 6 Express- Sets\n Seil (min. 40m)\n Zweckmäss
 ige Bekleidung\n Verpflegung\n\n\n\n\n\n\n\nSchwierigkeit\nWeiterbildun
 g\n\n\nEckdaten\n\n\n\nAusrüstung\nSiehe oben\n\n\nTreffpunkt\nTBA (to be
  announced)\, Weissmiesgebiet/Riffelhorn (je nach Verhältnissen)\n\n\nTei
 lnehmerzahl\n16\n\n\n\n&nbsp\;
CATEGORIES:Ausbildungskurs,SAC Tour
END:VEVENT
BEGIN:VTIMEZONE
TZID:Europe/Zurich
X-LIC-LOCATION:Europe/Zurich
BEGIN:DAYLIGHT
DTSTART:20250330T030000
TZOFFSETFROM:+0100
TZOFFSETTO:+0200
TZNAME:CEST
END:DAYLIGHT
END:VTIMEZONE
END:VCALENDAR