BEGIN:VCALENDAR
VERSION:2.0
PRODID:-//wp-events-plugin.com//7.2.3.1//EN
TZID:Europe/Zurich
X-WR-TIMEZONE:Europe/Zurich
BEGIN:VEVENT
UID:427@sac-saas.ch
DTSTART;TZID=Europe/Zurich;VALUE=DATE:20250614
DTEND;TZID=Europe/Zurich;VALUE=DATE:20250615
DTSTAMP:20250503T132941Z
URL:https://sac-saas.ch/events/ausbildungskurs-fels-anmeldung-ab-14-05-202
 5/
SUMMARY:Ausbildungskurs Fels / Anmeldung ab 14.05.2025
DESCRIPTION:Felsausbildung (Knoten\, Anseiltechnik\, etc. sind Voraussetzun
 g) – Erlernen\nverschiedener Techniken\, die es dir ermöglichen\, siche
 r im Fels und in den Bergen\nunterwegs zu sein. Theorie und Praxis: Ausrü
 stungs- und Materialkunde\, Anseilen beim\nKlettern\, Standplatzbau im Fe
 ls\, Sicherungstheorie fürs Klettern\, Selbstsicherung\,\nKameradensiche
 rung\, Zwischensicherung\, Seilkommandos\, Bewegen in einer\nMehrseilläng
 enroute\, Abseilen\, Ablassen\, etc.\nMaterialliste:\n Klettergurt\n
  Helm\n Kletterfinken\n Sicherungsschlinge\n 3 HMS Karabiner\n
  1 Sicherungs-\, Abseilgerät (ATC\, etc.)\n 6 Express- Sets\n Seil 
 (min. 40m)\n Zweckmässige Bekleidung\n Verpflegung\n\n\n\n\n\n\n\nS
 chwierigkeit\nWeiterbildung\n\n\nEckdaten\n\n\n\nAusrüstung\nSiehe oben\n
 \n\nTreffpunkt\nTBA (to be announced)\, Weissmiesgebiet/Klettergarten Saas
  Fee\n\n\nTeilnehmerzahl\n16\n\n\n\n&nbsp\;
CATEGORIES:Ausbildungskurs,SAC Tour
END:VEVENT
BEGIN:VTIMEZONE
TZID:Europe/Zurich
X-LIC-LOCATION:Europe/Zurich
BEGIN:DAYLIGHT
DTSTART:20250330T030000
TZOFFSETFROM:+0100
TZOFFSETTO:+0200
TZNAME:CEST
END:DAYLIGHT
END:VTIMEZONE
END:VCALENDAR