BEGIN:VCALENDAR
VERSION:2.0
PRODID:-//wp-events-plugin.com//7.2.3.1//EN
TZID:Europe/Zurich
X-WR-TIMEZONE:Europe/Zurich
BEGIN:VEVENT
UID:343@sac-saas.ch
DTSTART;TZID=Europe/Zurich;VALUE=DATE:20240526
DTEND;TZID=Europe/Zurich;VALUE=DATE:20240527
DTSTAMP:20240521T170452Z
URL:https://sac-saas.ch/events/ausbildung-navigation-orientierung-tourenpl
 anung-anmeldung-ab-01-04-2024/
SUMMARY:Ausbildung Navigation\, Orientierung\, Tourenplanung / Anmeldung ab
  01.04.2024
DESCRIPTION:Navigation - Orientierung: 26. Mai\, 2024\n\nDie Planung einer 
 Hochtour ist um vieles komplexer als die Planung einer normalen Wanderung.
  Für eine erfolgreiche Tour ist deshalb die Vorbereitung zuhause das A &
 amp\; O. Je genauer du dich vorbereitest\, desto weniger Überraschungen w
 irst du erleben und umso genussvoller und sicherer wird das Erlebnis.\n\n
 Auch bei einer guten Wetterprognose können wir in den Bergen schnell einm
 al von einem Wetterwechsel oder Nebel überrascht werden. Die Orientierung
  in den Bergen bei schlechter Sicht ist eine knifflige Sache\, die nicht n
 ur gute Fähigkeiten im Lesen topografischer Karten erfordert\, sondern au
 ch einen kompetenten Umgang mit Kompass und Höhenmesser und viel Übung u
 nd Routine voraussetzt. Seit dem Einzug der GPS-Technik hat sich sich viel
 es verändert und vereinfacht. Wir werden uns daher die digitalen Tools un
 d deren Anwendung im Detail anschauen.\n\nDieser Kurs richtet sich in erst
 er Stelle an alle Mitglieder vom SAC Saas. Da uns die Ausbildung aller Ber
 ggänger am Herzen liegt\, haben wir uns im Vorstand entschlossen\, diese 
 Ausbildungen auch an Nichtmitglieder anzubieten. Vorrang haben sicher unse
 re eigenen Mitglieder\, wenn es aber freie Plätze hat\, können sich auch
  andere Bergfreunde für diesen Kurs anmelden. Bitte weiter sagen.\nAnmeld
 ung für Nicht-SAC-Saas-Mitglieder über: info@sac-saas.ch oder 079 799 95
  56\n\n\n 	Wie komme ich zur Tourenidee ?\n 	Tourenplanung und -vorbereitu
 ng. Kurze Abhandlung über Standards zur Tourenplanung.\n 	Kartenlesen als
  Bergsteiger - wichtige Infos aus den Kartensymbolen zur Entscheidungshilf
 e vor und auf der Tour.\n 	Digitale Tools (White Risk\, Schweiz Mobil\, Sw
 issmap\, Rega App) ihre Vorteile und ihre Grenzen.\n 	Allgemeines zu den w
 eiteren Orientierungsmittel (GPS\, Höhenmesser\, Kompass) und deren Anwen
 dung\n 	Praktische Übungen\n\nBetreffend Material für die Teilnehmer wer
 de ich mich noch melden.\n\n\n\nAnmeldung ab:\n01.04.2024\n\n\nSchwierigke
 it\n\n\n\nEckdaten\n\n\n\nAusrüstung\n\n\n\nTreffpunkt\nSchulhaus Saas-Gr
 und\, 08:45\n\n\nTeilnehmerzahl\n16\n\n\n\n&nbsp\;
CATEGORIES:SAC Tour
END:VEVENT
BEGIN:VTIMEZONE
TZID:Europe/Zurich
X-LIC-LOCATION:Europe/Zurich
BEGIN:DAYLIGHT
DTSTART:20240331T030000
TZOFFSETFROM:+0100
TZOFFSETTO:+0200
TZNAME:CEST
END:DAYLIGHT
END:VTIMEZONE
END:VCALENDAR