BEGIN:VCALENDAR
VERSION:2.0
PRODID:-//wp-events-plugin.com//7.2.3.1//EN
TZID:Europe/Zurich
X-WR-TIMEZONE:Europe/Zurich
BEGIN:VEVENT
UID:136@sac-saas.ch
DTSTART;TZID=Europe/Zurich;VALUE=DATE:20230527
DTEND;TZID=Europe/Zurich;VALUE=DATE:20230528
DTSTAMP:20230525T182854Z
URL:https://sac-saas.ch/events/ausbildung-navigation-orientierung-anmeldun
 g-ab-01-04-2023/
SUMMARY:Ausbildung Navigation\, Orientierung / Anmeldung ab 01.04.2023
DESCRIPTION:Die Planung einer Hochtour ist um vieles komplexer als die Plan
 ung einer normalen Wanderung. Für eine erfolgreiche Tour ist deshalb die
  Vorbereitung zuhause das A &amp\; O. Je genauer du dich vorbereitest\, d
 esto weniger Überraschungen wirst du erleben und umso genussvoller und s
 icherer wird das Erlebnis.\n\nAuch bei einer guten Wetterprognose können 
 wir in den Bergen schnell einmal von einem Wetterwechsel oder Nebel überr
 ascht werden. Die Orientierung in den Bergen bei schlechter Sicht ist ein
 e knifflige Sache\, die nicht nur gute Fähigkeiten im Lesen topografische
 r Karten erfordert\, sondern auch einen kompetenten Umgang mit Kompass un
 d Höhenmesser und viel Übung und Routine voraussetzt. Seit dem Einzug de
 r GPS-Technik hat sich sich vieles verändert und vereinfacht. Wir werden
  uns daher die digitalen Tools und deren Anwendung im Detail anschauen.\n\
 n 	Wie komme ich zur Tourenidee ?\n 	Tourenplanung und -vorbereitung. Kurz
 e Abhandlung über Standards zur Tourenplanung.\n 	Kartenlesen als Bergste
 iger - wichtige Infos aus den Kartensymbolen zur Entscheidungshilfe vor un
 d auf der Tour.\n 	Digitale Tools (White Risk\, Schweiz Mobil\, Swissmap\,
  Rega App) ihre Vorteile und ihre Grenzen.\n 	Allgemeines zu den weiteren 
 Orientierungsmittel (GPS\, Höhenmesser\, Kompass) und deren Anwendung\n 	
 Praktische Übungen\n\n\n\n\nAnmeldung möglich ab:\n01.04.2023\, 07:00\, 
 Anmeldung ist verbindlich\n\n\nSchwierigkeit\n\n\n\nEckdaten\nKursort Saas
  Grund\, Mittagessen Hotel Alpha\n\n\nAusrüstung\n\n\n\nTreffpunkt\n9.00 
 Uhr Schulhaus Saas Grund\n\n\nTeilnehmerzahl\n16\n\n\n\n&nbsp\;
CATEGORIES:SAC Tour
END:VEVENT
BEGIN:VTIMEZONE
TZID:Europe/Zurich
X-LIC-LOCATION:Europe/Zurich
BEGIN:DAYLIGHT
DTSTART:20230326T030000
TZOFFSETFROM:+0100
TZOFFSETTO:+0200
TZNAME:CEST
END:DAYLIGHT
END:VTIMEZONE
END:VCALENDAR