BEGIN:VCALENDAR
VERSION:2.0
PRODID:-//wp-events-plugin.com//7.2.3.1//EN
TZID:Europe/Zurich
X-WR-TIMEZONE:Europe/Zurich
BEGIN:VEVENT
UID:342@sac-saas.ch
DTSTART;TZID=Europe/Zurich;VALUE=DATE:20240525
DTEND;TZID=Europe/Zurich;VALUE=DATE:20240526
DTSTAMP:20240521T170426Z
URL:https://sac-saas.ch/events/ausbildung-meteo-anmeldung-ab-01-04-2024/
SUMMARY:Ausbildung Meteo / Anmeldung ab 01.04.2024
DESCRIPTION:Meteorologie: 25. Mai\, 2024\n\n \n\nEin Grundkurs in Meteorol
 ogie ist für Bergsteiger und Alpinisten unbedingt notwendig\, da das Wett
 er in den Bergen schnell und unvorhersehbar wechseln kann. Ein solcher Kur
 s vermittelt wichtiges Wissen über die Entstehung von Wetterphänomenen\,
  die Interpretation von Wetterkarten und -vorhersagen sowie die Einschätz
 ung von Wetterrisiken in alpinen Gebieten. Dieses Verständnis ist entsche
 idend für die Planung von Touren und die sichere Durchführung von Bergak
 tivitäten\, da es hilft\, potenziell gefährliche Situationen frühzeitig
  zu erkennen und angemessen zu reagieren.\n\nDie tragischen Ereignisse der
  letzten Jahre und Wochen zeigen deutlich\, wie wichtig es ist\, sich mit 
 Meteorologie\, Tourenplanung und Navigation auseinanderzusetzen. Diese Gru
 ndkenntnisse sind entscheidend\, um die Sicherheit in den Bergen zu gewäh
 rleisten.\nDieser Kurs richtet sich in erster Stelle an alle Mitglieder vo
 m SAC Saas. Da uns die Ausbildung aller Berggänger am Herzen liegt\, habe
 n wir uns im Vorstand entschlossen\, diese Ausbildungen auch an Nichtmitgl
 ieder anzubieten. Vorrang haben sicher unsere eigenen Mitglieder\, wenn es
  aber freie Plätze hat\, können sich auch andere Bergfreunde für diesen
  Kurs anmelden. Bitte weiter sagen.\nAnmeldung für Nicht-SAC-Saas-Mitglie
 der über: info@sac-saas.ch oder 079 799 95 56\nUnter anderem werden wir f
 olgende Themen behandeln:\n\n 	Grundlagen der Meteorologie\, Wetter Schwei
 z: Verständnis von Wetterphänomenen\, Lesen\, Verstehen und Interpretier
 en von Wetterkarten und -vorhersagen\, Luftdruck und Höhenmesser\, Wetter
 lagen\, Niederschlag\, Temperatur\, Wind\, Wolken\, Wetterregeln\, etc.\n 
 	Das Smartphone als Online-Informationsquelle unterwegs\n 	Lokale Wetterph
 änomene in Bergregionen: Föhn\, Staulagen\, Gewitter\, Schneeverhältnis
 se usw.\n 	Wetterbeobachtung: Praktische Anleitung zur Beobachtung und Int
 erpretation des aktuellen Wetters vor Ort.\n 	Planung von Touren: Einfluss
  des Wetters auf die Tourenplanung\, Auswahl von geeigneten Routen und Not
 fallpläne.\n 	Kritische Wetterlagen im Hochgebirge und richtige Reaktion 
 in Notsituationen\n\n\n\n\nAnmeldung ab:\n01.04.2024\n\n\nSchwierigkeit\n\
 n\n\nEckdaten\n\n\n\nAusrüstung\n\n\n\nTreffpunkt\nSchulhaus Saas-Grund\,
  08:45\n\n\nTeilnehmerzahl\n20\n\n\n\n&nbsp\;
CATEGORIES:SAC Tour
END:VEVENT
BEGIN:VTIMEZONE
TZID:Europe/Zurich
X-LIC-LOCATION:Europe/Zurich
BEGIN:DAYLIGHT
DTSTART:20240331T030000
TZOFFSETFROM:+0100
TZOFFSETTO:+0200
TZNAME:CEST
END:DAYLIGHT
END:VTIMEZONE
END:VCALENDAR