BEGIN:VCALENDAR
VERSION:2.0
PRODID:-//wp-events-plugin.com//7.2.3.1//EN
TZID:Europe/Zurich
X-WR-TIMEZONE:Europe/Zurich
BEGIN:VEVENT
UID:138@sac-saas.ch
DTSTART;TZID=Europe/Zurich;VALUE=DATE:20230529
DTEND;TZID=Europe/Zurich;VALUE=DATE:20230530
DTSTAMP:20230525T183136Z
URL:https://sac-saas.ch/events/ausbildung-klettern_msl-anmeldung-ab-01-04-
 2023/
SUMMARY:Ausbildung Klettern-MSL / Anmeldung ab 01.04.2023
DESCRIPTION:\n 	Mehrseillängen-Klettern - Lerne alles über die Königsdis
 ziplin&nbsp\;\n\nDieser intensive Kurs richtet sich an alle Kletterer\, di
 e Freude am (Sport)Klettern haben und nun das Thema Mehrseillängen Klette
 rn in der Praxis erlernen wollen. In der Ausbildung werden wir uns haupts
 ächlich auf Felskletter- und Plaisirrouten fokusieren\, die mit Bohrhaken
  und Standplätzen ausgerüstet sind.\n\n&nbsp\;\n\nThemen:\n\n 	Ausrüstu
 ng und Materialkunde\, Seilwahl\n 	Tourenplanung und Vorbereitung\, Routen
 verlauf\, Orientierung in der Wand\n 	Anseilarten\n 	Zweier- und Dreiersei
 lschaften\n 	Kommunikation am Fels und Verhalten in der Wand\n 	Klettern m
 it Doppelseil\n 	Seil-Management\, Seilverlauf und Zwischensicherungen\n 	
 Sicherungsmöglichkeiten\n 	Raupen und Wechselführung\n 	Standplatzbau an
  einem und mehreren Fixpunkten\n 	Standplatzmanagement bei mehreren Seilsc
 haften\n 	Ablauf Klettern und Sichern in der Seilschaft\n 	Effizienz und Z
 eitmanagement\n\n&nbsp\;\n\nTechnische Ausrüstung :\n\n 	Zustiegsschuhe\n
  	leichter Rucksack\n 	Helm\n\n-  Kletterfinken\n\n 	Klettergurt\n 	Selbs
 tsicherungsschlinge\n\n-  Seil (min. 50m)\, 2x50m Halbseil (wenn vorhande
 n)\n\n-  4 Schraubkarabiner\n\n-  10 Expressen\n\n-  2 Bandschlingen\n\
 n-  Sicherungs- / Abseilgerät\n\n-  Reepschnur (für Prusikknoten zum A
 bseilen)\n\n 	Chalk Bag\n\n&nbsp\;\n\nVoraussetzung: Erfahrung im Sportkle
 ttern oder besuchter Grundkurs Fels\n\n&nbsp\;\n\n\n\n\nAnmeldung möglich
  ab:\n01.04.2023\, 07:00\, Anmeldung ist verbindlich\n\n\nSchwierigkeit\n\
 n\n\nEckdaten\nAusbildungsort: Weissmiesgebiet\n\n\nAusrüstung\n\n\n\nTre
 ffpunkt\n7.45 Uhr Talstation Bergbahnen Hohsaas\n\n\nTeilnehmerzahl\n12\n\
 n\n\n&nbsp\;
CATEGORIES:SAC Tour
END:VEVENT
BEGIN:VTIMEZONE
TZID:Europe/Zurich
X-LIC-LOCATION:Europe/Zurich
BEGIN:DAYLIGHT
DTSTART:20230326T030000
TZOFFSETFROM:+0100
TZOFFSETTO:+0200
TZNAME:CEST
END:DAYLIGHT
END:VTIMEZONE
END:VCALENDAR