BEGIN:VCALENDAR
VERSION:2.0
PRODID:-//wp-events-plugin.com//7.2.3.1//EN
TZID:Europe/Zurich
X-WR-TIMEZONE:Europe/Zurich
BEGIN:VEVENT
UID:345@sac-saas.ch
DTSTART;TZID=Europe/Zurich;VALUE=DATE:20240608
DTEND;TZID=Europe/Zurich;VALUE=DATE:20240609
DTSTAMP:20240607T114010Z
URL:https://sac-saas.ch/events/ausbildung-grundkurs-firn-und-eis-anmeldung
 -ab-01-04-2024/
SUMMARY:Ausbildung Grundkurs Firn und Eis / Anmeldung ab 01.04.2024
DESCRIPTION:Grundkurs Firn und Eis: 8. Juni\, 2024\n\n Wer sicher und mit 
 Genuss im Hochgebirge unterwegs sein will\, muss im Firn und Eis gute Grun
 dkenntnisse haben. Materialkenntnisse\, sowie der richtige Umgang mit Stei
 geisen\, Pickel und Seil sind Voraussetzung. Als Teil dieser Grundausbildu
 ng werden wir uns mit den wichtigsten Knoten\, dem Anseilen\, der Seilverk
 ürzung\, den Grundkenntnissen der Seilhandhabung im Firn und auf dem Glet
 scher\, der Steigeisen-\, Pickel- und Seiltechnik befassen. Zudem werden w
 ir uns einen Einblick in das Stoppen eines Ausrutschers\, die Verankerunge
 n im Firn\, Eis und Schnee sowie der einfachen Spaltenrettung verschaffen.
 \n\nDieser Kurs richtet sich in erster Stelle an alle Mitglieder vom SAC S
 aas. Da uns die Ausbildung aller Berggänger am Herzen liegt\, haben wir u
 ns im Vorstand entschlossen\, diese Ausbildungen auch an Nichtmitglieder a
 nzubieten. Vorrang haben sicher unsere eigenen Mitglieder\, wenn es aber f
 reie Plätze hat\, können sich auch andere Bergfreunde für diesen Kurs a
 nmelden. Bitte weiter sagen.\nAnmeldung für Nicht-SAC-Saas-Mitglieder üb
 er: info@sac-saas.ch oder 079 799 95 56\n\n\nAusrüstung für Grund- und F
 ortgeschrittenenkurs:\n\n 	Anseilgurt\n 	Steigeisen mit Antistollplatten\n
  	Pickel\n 	Helm\n 	30 - 40m Seil für Übungen\n 	Persönliches Material 
 für Verankerungen\, Flaschenzüge und Selbstaufstieg\n\nJeder sollte im M
 inimum das folgende Material bei sich haben\, das zu der Hochtouren Grunda
 usrüstung gehört\n\n 	6 Karabiner\, davon mindestens 4 Schraubkarabiner\
 n 	2 kurze Prusikschlingen\n 	1 lange 5 - 6m Prusikschlinge\n 	1 Dyneema o
 der Bandschlinge\n 	2 Eisschrauben\n 	1 Ropeman oder Micro Traxion\n 	1 Pe
 tzl Tibloc\n 	evt. Überziehhose und Ersatzhandschuhe für Mitreissübunge
 n\n 	Zwischenverpflegung\n 	Persönliches Material (inklusive Sonnenschutz
 \, dünne Daunenjacke\, etc.)\n\nVorgesehener Ausbildungsort für Grund- u
 nd Fortgeschrittenenkurs:      Kreuzboden – Hohsaas – Triftgletsc
 her\n\n\n\nAnmeldung ab:\n01.04.2024\n\n\nSchwierigkeit\n\n\n\nEckdaten\n\
 n\n\nAusrüstung\n\n\n\nTreffpunkt\n07:30 Talstation Bergbahnen Saas Grund
 /Hohsaas\n\n\nTeilnehmerzahl\n16\n\n\n\n&nbsp\;
CATEGORIES:Ausbildungskurs,SAC Tour
END:VEVENT
BEGIN:VTIMEZONE
TZID:Europe/Zurich
X-LIC-LOCATION:Europe/Zurich
BEGIN:DAYLIGHT
DTSTART:20240331T030000
TZOFFSETFROM:+0100
TZOFFSETTO:+0200
TZNAME:CEST
END:DAYLIGHT
END:VTIMEZONE
END:VCALENDAR