BEGIN:VCALENDAR
VERSION:2.0
PRODID:-//wp-events-plugin.com//7.2.3.1//EN
TZID:Europe/Zurich
X-WR-TIMEZONE:Europe/Zurich
BEGIN:VEVENT
UID:347@sac-saas.ch
DTSTART;TZID=Europe/Zurich;VALUE=DATE:20240615
DTEND;TZID=Europe/Zurich;VALUE=DATE:20240616
DTSTAMP:20240521T170618Z
URL:https://sac-saas.ch/events/ausbildung-grundkurs-fels-anmeldung-ab-01-0
 4-2024/
SUMMARY:Ausbildung Grundkurs Fels / Anmeldung ab 01.04.2024
DESCRIPTION:Grundausbildung Fels: 15. Juni\, 2024\n\n Felsausbildung (Knot
 en\, Anseiltechnik\, etc. sind Voraussetzung) – Erlernen verschiedener T
 echniken\, die es dir ermöglichen\, sicher im Fels und in den Bergen unte
 rwegs zu sein. Theorie und Praxis: Ausrüstungs- und Materialkunde\, Ansei
 len beim Klettern\, Standplatzbau im Fels\, Sicherungstheorie fürs Klet
 tern\, Selbstsicherung\, Kameradensicherung\, Zwischensicherung\, Seilkomm
 andos\, Bewegen in einer Mehrseillängenroute\, Abseilen\, Ablassen\, etc.
 \n\nDieser Kurs richtet sich in erster Stelle an alle Mitglieder vom SAC S
 aas. Da uns die Ausbildung aller Berggänger am Herzen liegt\, haben wir u
 ns im Vorstand entschlossen\, diese Ausbildungen auch an Nichtmitglieder a
 nzubieten. Vorrang haben sicher unsere eigenen Mitglieder\, wenn es aber f
 reie Plätze hat\, können sich auch andere Bergfreunde für diesen Kurs a
 nmelden. Bitte weiter sagen.\nAnmeldung für Nicht-SAC-Saas-Mitglieder üb
 er: info@sac-saas.ch oder 079 799 95 56\n\n\nMaterialliste:\n\n 	Klettergu
 rt\n 	Helm\n 	Kletterfinken\n 	Sicherungsschlinge\n 	3 HMS Karabiner\n 	1 
 Sicherungs-\, Abseilgerät (ATC\, etc.)\n 	6 Express- Sets\n 	Seil (min. 4
 0m)\n 	Zweckmässige Bekleidung\n 	Verpflegung\n\nVorgesehener Ausbildungs
 ort: Weissmiesgebiet/Klettergarten Saas Fee\n\n\n\nAnmeldung ab:\n01.04.2
 024\n\n\nSchwierigkeit\n\n\n\nEckdaten\n\n\n\nAusrüstung\n\n\n\nTreffpunk
 t\nTBA (to be announced) wird noch bekannt gegeben\n\n\nTeilnehmerzahl\n16
 \n\n\n\n&nbsp\;
CATEGORIES:SAC Tour
END:VEVENT
BEGIN:VTIMEZONE
TZID:Europe/Zurich
X-LIC-LOCATION:Europe/Zurich
BEGIN:DAYLIGHT
DTSTART:20240331T030000
TZOFFSETFROM:+0100
TZOFFSETTO:+0200
TZNAME:CEST
END:DAYLIGHT
END:VTIMEZONE
END:VCALENDAR