BEGIN:VCALENDAR
VERSION:2.0
PRODID:-//wp-events-plugin.com//7.2.3.1//EN
TZID:Europe/Zurich
X-WR-TIMEZONE:Europe/Zurich
BEGIN:VEVENT
UID:346@sac-saas.ch
DTSTART;TZID=Europe/Zurich;VALUE=DATE:20240609
DTEND;TZID=Europe/Zurich;VALUE=DATE:20240610
DTSTAMP:20240521T170555Z
URL:https://sac-saas.ch/events/ausbildung-fortgeschrittenenkurs-firn-und-e
 is-anmeldung-ab-01-04-2024/
SUMMARY:Ausbildung Fortgeschrittenenkurs Firn und Eis / Anmeldung ab 01.04.
 2024
DESCRIPTION:Fortbildungskurs Firn und Eis: 9. Juni\, 2024\n\nAls Ziel diese
 r Weiterbildung werden wir uns im Detail mit den Knoten für die improvisi
 erte Rettung (Blockierungsknoten\, Prohaska\, Klemmknoten\, gesteckter Pru
 sik\, etc. etc.)\, den verschiedenen Anseilarten\, der Seilverkürzung\, d
 er richtigen Steigeisen-\, Pickel- und Seiltechnik befassen. Zudem werden 
 wir unter anderem die folgende Themen und Schwerpunkte im Detail behandeln
 : die Seilschaft auf dem Gletscher\, Gehen und Seiltechnik auf dem Gletsch
 er\, Gehen am kurzen Seil im Firn\, Mitreissprobelmatik\, Liegestütztechn
 ik und Pickelrettungsgriff\, Verankerungen im Schnee\, Firn und Eis\, Spal
 tensturz\, doppelter Flaschenzug\, Österreicher Flaschenzug\, Selbstaufst
 ieg aus der Spalte.\n\nDieser Kurs richtet sich in erster Stelle an alle M
 itglieder vom SAC Saas. Da uns die Ausbildung aller Berggänger am Herzen 
 liegt\, haben wir uns im Vorstand entschlossen\, diese Ausbildungen auch a
 n Nichtmitglieder anzubieten. Vorrang haben sicher unsere eigenen Mitglied
 er\, wenn es aber freie Plätze hat\, können sich auch andere Bergfreunde
  für diesen Kurs anmelden. Bitte weiter sagen.\nAnmeldung für Nicht-SAC-
 Saas-Mitglieder über: info@sac-saas.ch oder 079 799 95 56\n\n\nAusrüstun
 g für Grund- und Fortgeschrittenenkurs:\n\n 	Anseilgurt\n 	Steigeisen mit
  Antistollplatten\n 	Pickel\n 	Helm\n 	30 - 40m Seil für Übungen\n 	Pers
 önliches Material für Verankerungen\, Flaschenzüge und Selbstaufstieg\n
 \nJeder sollte im Minimum das folgende Material bei sich haben\, das zu de
 r Hochtouren Grundausrüstung gehört\n\n 	6 Karabiner\, davon mindestens 
 4 Schraubkarabiner\n 	2 kurze Prusikschlingen\n 	1 lange 5 - 6m Prusikschl
 inge\n 	1 Dyneema oder Bandschlinge\n 	2 Eisschrauben\n 	1 Ropeman oder Mi
 cro Traxion\n 	1 Petzl Tibloc\n 	evt. Überziehhose und Ersatzhandschuhe f
 ür Mitreissübungen\n 	Zwischenverpflegung\n 	Persönliches Material (ink
 lusive Sonnenschutz\, dünne Daunenjacke\, etc.)\n\nVorgesehener Ausbildun
 gsort für Grund- und Fortgeschrittenenkurs:      Kreuzboden – Hohs
 aas – Triftgletscher\n\n\n\nAnmeldung ab:\n01.04.2024\n\n\nSchwierigkeit
 \n\n\n\nEckdaten\n\n\n\nAusrüstung\n\n\n\nTreffpunkt\n07:30 Talstation Be
 rgbahnen Saas Grund/Hohsaas\n\n\nTeilnehmerzahl\n16\n\n\n\n&nbsp\;
CATEGORIES:Ausbildungskurs,SAC Tour
END:VEVENT
BEGIN:VTIMEZONE
TZID:Europe/Zurich
X-LIC-LOCATION:Europe/Zurich
BEGIN:DAYLIGHT
DTSTART:20240331T030000
TZOFFSETFROM:+0100
TZOFFSETTO:+0200
TZNAME:CEST
END:DAYLIGHT
END:VTIMEZONE
END:VCALENDAR