BEGIN:VCALENDAR
VERSION:2.0
PRODID:-//wp-events-plugin.com//7.2.3.1//EN
TZID:Europe/Zurich
X-WR-TIMEZONE:Europe/Zurich
BEGIN:VEVENT
UID:348@sac-saas.ch
DTSTART;TZID=Europe/Zurich;VALUE=DATE:20240616
DTEND;TZID=Europe/Zurich;VALUE=DATE:20240617
DTSTAMP:20240521T170648Z
URL:https://sac-saas.ch/events/ausbildung-fortgeschrittenenkurs-fels-gehen
 -am-kurzen-seil-anmeldung-ab-01-04-2024/
SUMMARY:Ausbildung Fortgeschrittenenkurs Fels\, Gehen am kurzen Seil / Anme
 ldung ab 01.04.2024
DESCRIPTION:Fortgeschrittenenkurs Fels\; Gehen am kurzen Seil: 16. Juni\, 2
 024\n\nDas Gehen am kurzen Seil im Fels\, Eis\, Firn und im kombinierten G
 elände ist neben der Lawinenfrage sicher das komplexeste und heikelste T
 hema. Es verlangt grosse Erfahrung. Genaues Beurteilen der jeweiligen Sit
 uation\, richtiges Entscheiden und entsprechendes Verhalten sind von grös
 ster Wichtigkeit. Es ist somit in seiner Komplexität auch in der Ausbildu
 ng ein Thema\, welches sehr viel Zeit in Anspruch nimmt und ständig gele
 hrt und praktiziert werden muss. Verhältnisse – Gelände – Mensch si
 nd die entscheidenden Faktoren die der Seilführende in sein Risikomanage
 ment einbeziehen muss.\n\nJede Situation am Berg ist letztendlich einzigar
 tig. Es gibt unzählige Kombinationsmöglichkeiten aus verschiedenen Para
 metern. Während der Ausbildung werden wir in Verbindung mit Gesprächen 
 und Diskussionen das Gehen am kurzen Seil praxisbezogen im entsprechenden
  Gelände üben.\n\nDieser Kurs richtet sich in erster Stelle an alle Mitg
 lieder vom SAC Saas. Da uns die Ausbildung aller Berggänger am Herzen lie
 gt\, haben wir uns im Vorstand entschlossen\, diese Ausbildungen auch an N
 ichtmitglieder anzubieten. Vorrang haben sicher unsere eigenen Mitglieder\
 , wenn es aber freie Plätze hat\, können sich auch andere Bergfreunde f
 ür diesen Kurs anmelden. Bitte weiter sagen.\nAnmeldung für Nicht-SAC-Sa
 as-Mitglieder über: info@sac-saas.ch oder 079 799 95 56\n\n\nVorgesehener
  Ausbildungsort: Weissmiesgebiet/Riffelhorn (je nach Verhältnissen)\n\n\
 n\nAnmeldung ab:\n01.04.2024\n\n\nSchwierigkeit\n\n\n\nEckdaten\n\n\n\nAus
 rüstung\n\n\n\nTreffpunkt\nTBA (to be announced) wird noch bekannt gegebe
 n\n\n\nTeilnehmerzahl\n16\n\n\n\n&nbsp\;
CATEGORIES:SAC Tour
END:VEVENT
BEGIN:VTIMEZONE
TZID:Europe/Zurich
X-LIC-LOCATION:Europe/Zurich
BEGIN:DAYLIGHT
DTSTART:20240331T030000
TZOFFSETFROM:+0100
TZOFFSETTO:+0200
TZNAME:CEST
END:DAYLIGHT
END:VTIMEZONE
END:VCALENDAR