BEGIN:VCALENDAR
VERSION:2.0
PRODID:-//wp-events-plugin.com//7.2.3.1//EN
TZID:Europe/Zurich
X-WR-TIMEZONE:Europe/Zurich
BEGIN:VEVENT
UID:242@sac-saas.ch
DTSTART;TZID=Europe/Zurich;VALUE=DATE:20240608
DTEND;TZID=Europe/Zurich;VALUE=DATE:20240609
DTSTAMP:20240606T105741Z
URL:https://sac-saas.ch/events/arbeitstag-grubenalp/
SUMMARY:Abgesagt - Arbeitstag Grubenalp/Anmeldung ab 08.05.2024
DESCRIPTION:Arbeitstag wird wegen Strassensperrung verschoben - neues Datum
  wird noch bekannt gegeben\n\n\n\nAnmeldung möglich ab:\n08. 05.2024\n\n\
 nSchwierigkeit\n\n\n\nEckdaten\n\n\n\nAusrüstung\n\n\n\nTreffpunkt\n\n\n\
 nTeilnehmerzahl\n8\n\n\n\nWieder findet unsere alljährliche  Hüttenputz
 ete auf der Grubenalpe statt.\n\nUnd wie immer sind wir froh um freiwillig
 e Helfer. Matzratzen klopfen\, Decken lüften\, Geschirrschränke reinigen
 \, Staubsaugen\, im Keller nach dem Rechten schauen ect.\n\nWie immer geni
 essen wir danach das gemeinsame Mittagessen und das gemütliche Zusammense
 in.\n\nVielen Dank wenn auch DU dabei bist.
CATEGORIES:SAC Tour
END:VEVENT
BEGIN:VTIMEZONE
TZID:Europe/Zurich
X-LIC-LOCATION:Europe/Zurich
BEGIN:DAYLIGHT
DTSTART:20240331T030000
TZOFFSETFROM:+0100
TZOFFSETTO:+0200
TZNAME:CEST
END:DAYLIGHT
END:VTIMEZONE
END:VCALENDAR