BEGIN:VCALENDAR
VERSION:2.0
PRODID:-//wp-events-plugin.com//7.2.3.1//EN
TZID:Europe/Zurich
X-WR-TIMEZONE:Europe/Zurich
BEGIN:VEVENT
UID:141@sac-saas.ch
DTSTART;TZID=Europe/Zurich;VALUE=DATE:20230610
DTEND;TZID=Europe/Zurich;VALUE=DATE:20230611
DTSTAMP:20230607T111720Z
URL:https://sac-saas.ch/events/arbeitstag-grubenalp-anmeldung-ab-01-05-202
 3/
SUMMARY:Arbeitstag Grubenalp / Anmeldung ab 01.05.2023
DESCRIPTION:&nbsp\;\n\n\n\nAnmeldung möglich ab:\n01.05.2023\, 07:00\n\n\n
 Schwierigkeit\n\n\n\nEckdaten\n\n\n\nAusrüstung\n\n\n\nTreffpunkt\n\n\n\n
 Teilnehmerzahl\n9\n\n\n\nBald ist es wieder soweit und unsere alljährlich
 e Hüttenputzete auf der Grubenalp findet statt.\n\nWie immer brauchen wir
  ein paar freiwillige Helfer\, sei es um die Matratzen zu klopfen\, Decken
  lüften\, Geschirrschränke reinigen\, staubsaugen\, im Keller nach dem R
 echten schauen\, und dann ist auch das Holz spalten fällig (ideal 3 Perso
 nen).\n\nWie immer gehört ein gemütliches Mittagessen bei bester Aussich
 t dazu.\n\nVielen Dank wenn auch DU dabei bist.\n\n&nbsp\;
CATEGORIES:SAC Tour
END:VEVENT
BEGIN:VTIMEZONE
TZID:Europe/Zurich
X-LIC-LOCATION:Europe/Zurich
BEGIN:DAYLIGHT
DTSTART:20230326T030000
TZOFFSETFROM:+0100
TZOFFSETTO:+0200
TZNAME:CEST
END:DAYLIGHT
END:VTIMEZONE
END:VCALENDAR