BEGIN:VCALENDAR
VERSION:2.0
PRODID:-//wp-events-plugin.com//7.2.3.1//EN
TZID:Europe/Zurich
X-WR-TIMEZONE:Europe/Zurich
BEGIN:VEVENT
UID:453@sac-saas.ch
DTSTART;TZID=Europe/Zurich:20250126T100000
DTEND;TZID=Europe/Zurich:20250126T123000
DTSTAMP:20241231T071107Z
URL:https://sac-saas.ch/events/alps-alpines-museum-bern-anmeldung-ab-01-01
 -2025/
SUMMARY:ALPS Alpines Museum Bern/ Anmeldung ab 01.01.2025
DESCRIPTION:Hauptausstellung "Grönland-alles wird anders" (auf 2 Etagen).\
 nEs gibt eine Filminstallation inkl. Headset zu den Themen Wandel von Klim
 a und Wirtschaft\, Suche nach Bodenschätzen und den Menschen in Grönland
  mit ihren Perspektiven.\nDauer: ca. 1.5 Stunden\nDie Ausstellung dauert b
 is August 2026\n\nAusstellung "Am Limit" auf Expedition mit Erhard Loretan
  (im Biwak à 100m2 im EG).\nEs werden Gebrauchsmaterial\, Filme\, Raumtex
 te\, Tagebücher\, Diaprojektionen und eine interaktive Station präsentie
 rt.\nDauer: ca. 0.5 - 1.0 Stunden\nDie Ausstellung dauert bis 30.03.2025\n
 \nEintritt: CHF 14.00 / Person\nAbfahrtzeit in Visp mit dem Zug 08:54Uhr\,
  ab Bahnhof Bern mit Tram 6/7/8 bis Helvetiaplatz.\n\nIn der Museums-Cafet
 eria gibt es bei Bedarf Kaffee und Zwischenverpflegung. Es besteht die Mö
 glichkeit\, anschliessend an die Ausstellung zusammen Mittag zu essen.\n\n
 \n\nAnmeldung ab:\n\n\n\nSchwierigkeit\n\n\n\nEckdaten\n\n\n\nAusrüstung\
 n\n\n\nTreffpunkt\n\n\n\nTeilnehmerzahl\n\n\n\n\n&nbsp\;
CATEGORIES:Clubanlass,SAC Tour
END:VEVENT
BEGIN:VTIMEZONE
TZID:Europe/Zurich
X-LIC-LOCATION:Europe/Zurich
BEGIN:STANDARD
DTSTART:20241027T020000
TZOFFSETFROM:+0200
TZOFFSETTO:+0100
TZNAME:CET
END:STANDARD
END:VTIMEZONE
END:VCALENDAR