BEGIN:VCALENDAR
VERSION:2.0
PRODID:-//wp-events-plugin.com//7.2.3.1//EN
TZID:Europe/Zurich
X-WR-TIMEZONE:Europe/Zurich
BEGIN:VEVENT
UID:451@sac-saas.ch
DTSTART;TZID=Europe/Zurich;VALUE=DATE:20250126
DTEND;TZID=Europe/Zurich;VALUE=DATE:20250127
DTSTAMP:20251123T193520Z
URL:https://sac-saas.ch/events/alps-alpines-museum-bern-anmeldung-ab-01-01
 -2025-2/
SUMMARY:ALPS Alpines Museum Bern / Anmeldung ab 01.01.2025
DESCRIPTION:&nbsp\;\n\n\n\n\n\n\n\nSchwierigkeit\n\n\n\nEckdaten\n\n\n\nAus
 rüstung\n\n\n\nTreffpunkt\n\n\n\nTeilnehmerzahl\n\n\n\n\n&nbsp\;
CATEGORIES:Clubanlass,SAC Tour
END:VEVENT
BEGIN:VTIMEZONE
TZID:Europe/Zurich
X-LIC-LOCATION:Europe/Zurich
BEGIN:STANDARD
DTSTART:20241027T020000
TZOFFSETFROM:+0200
TZOFFSETTO:+0100
TZNAME:CET
END:STANDARD
END:VTIMEZONE
END:VCALENDAR