BEGIN:VCALENDAR
VERSION:2.0
PRODID:-//wp-events-plugin.com//7.2.3.1//EN
TZID:Europe/Zurich
X-WR-TIMEZONE:Europe/Zurich
BEGIN:VEVENT
UID:374@sac-saas.ch
DTSTART;TZID=Europe/Zurich;VALUE=DATE:20250830
DTEND;TZID=Europe/Zurich;VALUE=DATE:20250901
DTSTAMP:20250826T184614Z
URL:https://sac-saas.ch/events/alpinklettern-am-grand-saint-bernard-anmeld
 ung-ab-01-08-2025/
SUMMARY:Abgesagt - Alpinklettern auf der Saleina Hütte
DESCRIPTION:Leider müssen wir die Tour absagen. Wir hoffen\, dass wir im n
 ächsten Jahr bessere Bedingungen haben.\n\n\n\nAnmeldung ab:\n01.08.2025\
 n\n\nSchwierigkeit\n5b\, Alpine MSL\n\n\nEckdaten\n+600 m / -600 m\n\n
 \nAusrüstung\nwird bekannt gegeben\n\n\nTreffpunkt\nwird bekannt gegeben\
 n\n\nTeilnehmerzahl\n6 inkl TL\n\n\n\nDurch die Änderung im SF-Team umdis
 ponieren wir die Tour auf die Saleina Hütte: geräumige Alpinhütte am Ra
 nde des Schweizer Mont-Blanc-Gebiets. In einem Seitental des Val Ferret ge
 legen\, bietet sie einen grandiosen Blick zum Gletscher und in die kristal
 line Bergwelt der Aiguille d’Argentière und zu den bekannten hochalpine
 n Übergängen wie dem Fenêtre de Saleinaz hinüber zum Plateau du Trient
 . Wir bleiben aber bei der Thema Klettern. An ersten Tag laufen wir cca. 3
  Std zur Hütte. Nach einer Pause bei der Hütte kann man kurzere MLS unte
 rhalb von der Hütte in Angriff nehmen und sich so für den zweiten Tag ei
 n bisschen aufwärmen. Hier steht alles vom 3. bis zum 6. Schwierigkeitsgr
 at zur Auswahl. Am zweiten Tag wollen wir den Grande Pointe des Planereuse
 s über ENE Grat überschreiten. Es handet sich um eine alpine Grattour im
  2. Schwierigkeitsgrat.
CATEGORIES:SAC Tour
END:VEVENT
BEGIN:VTIMEZONE
TZID:Europe/Zurich
X-LIC-LOCATION:Europe/Zurich
BEGIN:DAYLIGHT
DTSTART:20250330T030000
TZOFFSETFROM:+0100
TZOFFSETTO:+0200
TZNAME:CEST
END:DAYLIGHT
END:VTIMEZONE
END:VCALENDAR