BEGIN:VCALENDAR
VERSION:2.0
PRODID:-//wp-events-plugin.com//7.2.3.1//EN
TZID:Europe/Zurich
X-WR-TIMEZONE:Europe/Zurich
BEGIN:VEVENT
UID:129@sac-saas.ch
DTSTART;TZID=Europe/Zurich;VALUE=DATE:20230903
DTEND;TZID=Europe/Zurich;VALUE=DATE:20230904
DTSTAMP:20230829T201647Z
URL:https://sac-saas.ch/events/alpines-klettern-traversee-des-perrons-e-w/
SUMMARY:Alpines Klettern Traversée des Perrons E-W / Anmeldung ab 20.08.20
 23
DESCRIPTION:&nbsp\;\n\n\n\nAnmeldung möglich ab:\n20.08.2023\, 07:00\n\n\n
 Schwierigkeit\nZS\, 4a\n\n\nEckdaten\n ↑ 1000 Hm  ↓ 1000 Hm\, 8-9 St
 d\n\n\nAusrüstung\n wird bekannt gegeben\n\n\nTreffpunkt\nwird bekannt g
 egeben\n\n\nTeilnehmerzahl\n6 inkl TL (Urs + Samuel)\n\n\n\nDie Überqueru
 ng der Perrons ist in beiden Richtungen beliebt\; sie ist lang\, aber abwe
 chslungsreich und verläuft in festem Gelände. Herrliche Aussicht auf das
  Mont-Blanc-Massiv und typische See- und Bergstimmung auf der Seite von Em
 osson.\n\nWir starten am Emosson Staudamm und laufen zuerst 2std Std zum E
 instieg und unserem ersten Gipfel: Aiguille de Vent N. Vom Aiguille de Ven
 t  fängt unseres Abenteuer an. Wir werden insgesamt 5 Gipfel erreichen: 
 Aiguille de Vent N\, Grand Perron\, Enclave des Perrons\, Pointe Vouilloz\
 , Pointe de l'Ifala. Es geht lusting und teilweise exponiert rauf und runt
 er mit 2 Abseilstellen. Nach 5 Std erreihen wir Pointe de l'Ifala\, von wo
  wir dann ungefähr 2 Std zurück zum Staudam laufen.
CATEGORIES:SAC Tour
END:VEVENT
BEGIN:VTIMEZONE
TZID:Europe/Zurich
X-LIC-LOCATION:Europe/Zurich
BEGIN:DAYLIGHT
DTSTART:20230326T030000
TZOFFSETFROM:+0100
TZOFFSETTO:+0200
TZNAME:CEST
END:DAYLIGHT
END:VTIMEZONE
END:VCALENDAR