BEGIN:VCALENDAR
VERSION:2.0
PRODID:-//wp-events-plugin.com//7.2.3.1//EN
TZID:Europe/Zurich
X-WR-TIMEZONE:Europe/Zurich
BEGIN:VEVENT
UID:128@sac-saas.ch
DTSTART;TZID=Europe/Zurich;VALUE=DATE:20230819
DTEND;TZID=Europe/Zurich;VALUE=DATE:20230820
DTSTAMP:20230817T125306Z
URL:https://sac-saas.ch/events/alpines-klettern-dent-de-fenestral/
SUMMARY:Alpines Klettern Dent de Fenestral - Neues Datum 19.08.
DESCRIPTION:&nbsp\;\n\n\n\nAnmeldung möglich ab:\n01.08.2023\, 07:00\n\n\n
 Schwierigkeit\nWS\, 3C\n\n\nEckdaten\n ↑ 800 Hm  ↓ 800 Hm\n\n\nAusr
 üstung\n Klettergurt\, Helm\, 2 Schraubkarabiner\, Abseigerät\, Prusik 
 und Selbstsicherungsschlinge\n\nSF zusätzlich: 40m Seil\, 2-3 Friends\, 1
 -2 Schlingen\, ein paar Schraubkarabiner\n\n\nTreffpunkt\n8:00 Martigny\n\
 n\nTeilnehmerzahl\n 4 inkl 2 TL\n\n\n\nDie Tour findet am 19.08. anstatt 
 am 20.08. statt.\n\nDiese elegante Felsspitze wurde in Erinnerung an den E
 rstbesteiger (durch das N-Kamin\, Normalweg) vorübergehend Pointe Beaumon
 t genannt. Der Begriff Fenestral\, bereits 1324 in Gebrauch\, leitet sich 
 von "fenêtre" ab und bezeichnet eine Lücke in der Kette.\n\nDer Berg wir
 d meistens in W-E-Richtung überschritten und bietet eine wunderbare Sicht
  auf das Montblanc-Massiv und das Rhonetal. Von Le Pas folgen wir dem mehr
  oder weniger horizontal verlaufenden Pfad bis zur Alp Fenestral. Eine kur
 ze Kletterei führt zu einer Ebene (Plan des Marais). Vom Col de Fenestral
  unschwierig auf dem Grat bis zu einem Aufschwung\, den man auf einer Plat
 te links umgeht. Auf guten Stufen zurück auf den Grat. In einem Riss in d
 ie folgende Lücke absteigen. Auf dem gezackten Grat weiter und einen sehr
  glatten Aufschwung überklettern oder in einem Kamin auf der N-Seite umge
 hen. Erneut zurück auf den Grat und diesem folgend bis zum Gipfel. Es sin
 d 6 luftige Gendarmen zu überklettern. Guter Fels (Schwierigkeit 2 bis 3c
 ).
CATEGORIES:SAC Tour
END:VEVENT
BEGIN:VTIMEZONE
TZID:Europe/Zurich
X-LIC-LOCATION:Europe/Zurich
BEGIN:DAYLIGHT
DTSTART:20230326T030000
TZOFFSETFROM:+0100
TZOFFSETTO:+0200
TZNAME:CEST
END:DAYLIGHT
END:VTIMEZONE
END:VCALENDAR