BEGIN:VCALENDAR
VERSION:2.0
PRODID:-//wp-events-plugin.com//7.2.3.1//EN
TZID:Europe/Zurich
X-WR-TIMEZONE:Europe/Zurich
BEGIN:VEVENT
UID:274@sac-saas.ch
DTSTART;TZID=Europe/Zurich;VALUE=DATE:20240901
DTEND;TZID=Europe/Zurich;VALUE=DATE:20240902
DTSTAMP:20240809T101155Z
URL:https://sac-saas.ch/events/alpines-kleterrn-am-grand-st-bernard-2024-a
 nmeldung-ab-01-08-2024/
SUMMARY:Alpines Klettern am Grand-St-Bernard 2024 / Anmeldung ab 01.08.2024
DESCRIPTION:Die Route heisst Pain de Sucre du Fourchon: Arête SE. Der Sch
 wierigkeitsgrat ist 5b &gt\; 5a nur in einer SL\, die restclichen SL sind 
 im 3-4 Grat. Insgesamt sind es 11 SL.\n\n\n\nAnmeldung möglich ab:\n15.08
 .2024\n\n\nSchwierigkeit\nZS /5a\n\n\nEckdaten\n\n\n\nAusrüstung\nMSL Aus
 rüstung\n\n\nTreffpunkt\nwird bekannt gegeben\n\n\nTeilnehmerzahl\n6 inkl
  TL und 2 SF (Samuel und Urs)\n\n\n\n&nbsp\;
CATEGORIES:SAC Tour
END:VEVENT
BEGIN:VTIMEZONE
TZID:Europe/Zurich
X-LIC-LOCATION:Europe/Zurich
BEGIN:DAYLIGHT
DTSTART:20240331T030000
TZOFFSETFROM:+0100
TZOFFSETTO:+0200
TZNAME:CEST
END:DAYLIGHT
END:VTIMEZONE
END:VCALENDAR