BEGIN:VCALENDAR
VERSION:2.0
PRODID:-//wp-events-plugin.com//7.2.3.1//EN
TZID:Europe/Zurich
X-WR-TIMEZONE:Europe/Zurich
BEGIN:VEVENT
UID:26@sac-saas.ch
DTSTART;TZID=Europe/Zurich;VALUE=DATE:20230908
DTEND;TZID=Europe/Zurich;VALUE=DATE:20230909
DTSTAMP:20230905T041413Z
URL:https://sac-saas.ch/events/alpine-wanderung-chesselhorn/
SUMMARY:Alpine Wanderung Chesselhorn / Anmeldung ab 08.08.2023
DESCRIPTION:Abgesagt\, zu wenig Teilnehmer…\n\nEin selten besuchter Gipfe
 l der Simplonregion - obwohl es eine sehr abwechslungsreiche Route mit gra
 ndiosem Ausblick verspricht!\n\n\n\nAnmeldung möglich ab:\n08.08.2023\, 0
 7:00\n\n\nSchwierigkeit\nT4\n\n\nEckdaten\n ↑ 1400Hm  ↓ 1400Hm -&gt\
 ; 7:30 h\n\n\nAusrüstung\nadäquate Wanderausrüstung\, gute Bergschuhe\,
  Lunch\n\n\nTreffpunkt\nBrig Bahnhof 07:00 Uhr\n\n\nTeilnehmerzahl\n6 plus
  TL\n\n\n\n&nbsp\;
CATEGORIES:SAC Tour
END:VEVENT
BEGIN:VTIMEZONE
TZID:Europe/Zurich
X-LIC-LOCATION:Europe/Zurich
BEGIN:DAYLIGHT
DTSTART:20230326T030000
TZOFFSETFROM:+0100
TZOFFSETTO:+0200
TZNAME:CEST
END:DAYLIGHT
END:VTIMEZONE
END:VCALENDAR