BEGIN:VCALENDAR
VERSION:2.0
PRODID:-//wp-events-plugin.com//7.2.3.1//EN
TZID:Europe/Zurich
X-WR-TIMEZONE:Europe/Zurich
BEGIN:VEVENT
UID:301@sac-saas.ch
DTSTART;TZID=Europe/Zurich;VALUE=DATE:20240701
DTEND;TZID=Europe/Zurich;VALUE=DATE:20240704
DTSTAMP:20240129T202359Z
URL:https://sac-saas.ch/events/alpentrekking-andolla-anmeldung-ab-01-04-20
 24/
SUMMARY:Alpentrekking Andolla / Anmeldung ab 01.04.2024
DESCRIPTION:Text\n\n\n\nAnmeldung möglich ab:\n01.04.2024\n\n\nSchwierigke
 it\nT3\, K3\n\n\nEckdaten\n\n\n\nAusrüstung\n\n\n\nTreffpunkt\n\n\n\nTeil
 nehmerzahl\n8\n\n\n\n&nbsp\;
CATEGORIES:Alpine Wanderung,SAC Tour
END:VEVENT
BEGIN:VTIMEZONE
TZID:Europe/Zurich
X-LIC-LOCATION:Europe/Zurich
BEGIN:DAYLIGHT
DTSTART:20240331T030000
TZOFFSETFROM:+0100
TZOFFSETTO:+0200
TZNAME:CEST
END:DAYLIGHT
END:VTIMEZONE
END:VCALENDAR