BEGIN:VCALENDAR
VERSION:2.0
PRODID:-//wp-events-plugin.com//7.2.3.1//EN
TZID:Europe/Zurich
X-WR-TIMEZONE:Europe/Zurich
BEGIN:VEVENT
UID:518@sac-saas.ch
DTSTART;TZID=Europe/Zurich;VALUE=DATE:20260715
DTEND;TZID=Europe/Zurich;VALUE=DATE:20260716
DTSTAMP:20260311T093827Z
URL:https://sac-saas.ch/events/almagellerhorn-anmeldung-ab-15-06-26/
SUMMARY:Almagellerhorn / Anmeldung ab 15.06.26
DESCRIPTION:Wanderung auf das Almagellerhorn von der Bergstation Heidbodme 
 aus\n\n\n\n\nAnmeldung ab:\n15.06.26\n\n\nSchwierigkeit\nT5\n\n\nEckdaten\
 n1000Hm rauf und runter\,\n\n\nAusrüstung\nWanderausrüstung\n\n\nTreffpu
 nkt\nBei der Talstation von Saas-Almagell\, erste Bergfahrt\n\n\nTeilnehme
 rzahl\n10\n\n\n\n&nbsp\;
CATEGORIES:Alpine Wanderung,SAC Tour
END:VEVENT
BEGIN:VTIMEZONE
TZID:Europe/Zurich
X-LIC-LOCATION:Europe/Zurich
BEGIN:DAYLIGHT
DTSTART:20260329T030000
TZOFFSETFROM:+0100
TZOFFSETTO:+0200
TZNAME:CEST
END:DAYLIGHT
END:VTIMEZONE
END:VCALENDAR