BEGIN:VCALENDAR
VERSION:2.0
PRODID:-//wp-events-plugin.com//7.2.3.1//EN
TZID:Europe/Zurich
X-WR-TIMEZONE:Europe/Zurich
BEGIN:VEVENT
UID:28@sac-saas.ch
DTSTART;TZID=Europe/Zurich;VALUE=DATE:20230701
DTEND;TZID=Europe/Zurich;VALUE=DATE:20230702
DTSTAMP:20230627T184622Z
URL:https://sac-saas.ch/events/allalin-hohlaubgrat/
SUMMARY:Ausgebucht-Allalin Hohlaubgrat / Anmeldung ab 10.06.2023
DESCRIPTION:Ausgebucht\n\nMit der Metro bis zur Mittelstation\, anschliesse
 nd Aufstieg Hohlaubgrat aufs Allalin\n\n\n\nAnmeldung möglich ab:\n10.06.
 2023\, 07:00\n\n\nSchwierigkeit\nZS\, 2a\n\n\nEckdaten\n ↑ 1000 Hm  
 ↓ 500 Hm\n\n\nAusrüstung\nHochtourenausrüstung\n\n\nTreffpunkt\nwird n
 och bekannt gegeben\n\n\nTeilnehmerzahl\n1TL (Francine)\, 1SF (Alessandro)
 \, 4Teilnehmer\n\n\n\n&nbsp\;
CATEGORIES:SAC Tour
END:VEVENT
BEGIN:VTIMEZONE
TZID:Europe/Zurich
X-LIC-LOCATION:Europe/Zurich
BEGIN:DAYLIGHT
DTSTART:20230326T030000
TZOFFSETFROM:+0100
TZOFFSETTO:+0200
TZNAME:CEST
END:DAYLIGHT
END:VTIMEZONE
END:VCALENDAR