BEGIN:VCALENDAR
VERSION:2.0
PRODID:-//wp-events-plugin.com//7.2.3.1//EN
TZID:Europe/Zurich
X-WR-TIMEZONE:Europe/Zurich
BEGIN:VEVENT
UID:22@sac-saas.ch
DTSTART;TZID=Europe/Zurich;VALUE=DATE:20230804
DTEND;TZID=Europe/Zurich;VALUE=DATE:20230805
DTSTAMP:20221214T221151Z
URL:https://sac-saas.ch/events/aletschgletscher-gletscherhoehlen-kraftort-
 meditaion/
SUMMARY:Aletschgletscher Gletscherhöhlen Kraftort Meditation / Anmeldung a
 b 04.07.2023
DESCRIPTION:Lass uns im grossartigen Gebiet UNESCO Weltnaturerbe Aletsch ei
 nige Stunden verbringen. Abseits des Rummels werden wir Zeit für uns selb
 st haben. Wir werden Gletscherhöhlen und smaragdgrüne kleine Seen entdec
 ken.\nBestaunen die Zeichen der Zeit und werden uns an einem kraftvollen O
 rt niederlassen. Geführte Meditation und sanfte Entspannungsübungen wirk
 en an diesem magischen Platz besonders intensiv. Mit geschürten Sinnen wi
 rd der Rückweg in die Zivilisation ein Leichtes.\n\n\n\nAnmeldung möglic
 h ab:\n04.07.2023\, 07:00\n\n\nSchwierigkeit\nT3\n\n\nEckdaten\n ↑ 500H
 m  ↓ 800Hm -&gt\; 5 h\n\n\nAusrüstung\nBekleidung um den ganzen Tag dr
 aussen zu sein\, Bergschuhe\, Sitzunterlage\, Verpflegung/Getränke für M
 ittagessen\n\n\nTreffpunkt\nMörel Talstation 09:00 Uhr\n\n\nTeilnehmerzah
 l\n6 plus TL\n\n\n\n&nbsp\;
CATEGORIES:Bergreisen,SAC Tour,Wanderung
END:VEVENT
BEGIN:VTIMEZONE
TZID:Europe/Zurich
X-LIC-LOCATION:Europe/Zurich
BEGIN:DAYLIGHT
DTSTART:20230326T030000
TZOFFSETFROM:+0100
TZOFFSETTO:+0200
TZNAME:CEST
END:DAYLIGHT
END:VTIMEZONE
END:VCALENDAR