BEGIN:VCALENDAR
VERSION:2.0
PRODID:-//wp-events-plugin.com//7.2.3.1//EN
TZID:Europe/Zurich
X-WR-TIMEZONE:Europe/Zurich
BEGIN:VEVENT
UID:618@sac-saas.ch
DTSTART;TZID=Europe/Zurich;VALUE=DATE:20260716
DTEND;TZID=Europe/Zurich;VALUE=DATE:20260720
DTSTAMP:20260401T081352Z
URL:https://sac-saas.ch/events/aguille-de-bionnassay-4052-meter/
SUMMARY:Aguille de Bionnassay &amp\; Dome du Gouter / Anmeldung ab 01.05.20
 26
DESCRIPTION:2 4000-er in atemberaubende Umgebung\, grad um die Ecke vom Mon
 t Blanc. Nicht nur deswegen ein eher wenig begangene Route. Die Aguille de
  Bionnassay liegt ein wenig abseits von den Hauptrouten des Mont Blanc Mas
 sivs aber definitiv nicht weniger schön. Bereits das Refuge Durier liegt 
 bereits auf der französisch-italienische Grenze den wir bis auf dem Dome 
 du Gouter folgen werden. Auf dem Rückweg dann durch das berühmt-berücht
 igte "Grand Couloir" zurück zu Les Houches/Chamonix wo wir noch ein Mal s
 chlafen werden.\n\nDiesen Hochtour ist speziell für SAC Saas Mitglieder m
 it Erfahrung. Zudem benötigt es eine sehr gute Kondition und sehr gute Be
 wegung im steilen Eis/Schnee für den messerscharfen Ostgrat.\n\nWenn du u
 nsicher bist ob es etwas für dich ist\, kannst du mich gerne anrufen.\n\n
 \n\nTagesablauf:\n\nTag 1: Anfahrt über Col de la Forclaz zu Les Houches\
 , Bahnfahrt und Aufstieg zur Refuge de Plan Glacier\n\nTag 2: Aufstieg zur
  Refuge de Durier\n\nTag 3: Aufstieg zur Aguille de Bionnassay und Abstieg
  nach Chamonix und Übernachtung\n\nTag 4: Rückfahrt\n\n\n\nAnmeldung ab:
 \n01.05.2026\n\n\nSchwierigkeit\nZS 3a\n\n\nEckdaten\n1700Hm ↑↓\n\n\nA
 usrüstung\nHochtourenausrüstung\n\n\nTreffpunkt\nNZB\n\n\nTeilnehmerzahl
 \n4 inkluisve Tourenleiter\n\n\n
CATEGORIES:Hochtour,SAC Tour
END:VEVENT
BEGIN:VTIMEZONE
TZID:Europe/Zurich
X-LIC-LOCATION:Europe/Zurich
BEGIN:DAYLIGHT
DTSTART:20260329T030000
TZOFFSETFROM:+0100
TZOFFSETTO:+0200
TZNAME:CEST
END:DAYLIGHT
END:VTIMEZONE
END:VCALENDAR