BEGIN:VCALENDAR
VERSION:2.0
PRODID:-//wp-events-plugin.com//7.2.3.1//EN
TZID:Europe/Zurich
X-WR-TIMEZONE:Europe/Zurich
BEGIN:VEVENT
UID:535@sac-saas.ch
DTSTART;TZID=Europe/Zurich:20260818T160000
DTEND;TZID=Europe/Zurich:20260818T200000
DTSTAMP:20251123T190757Z
URL:https://sac-saas.ch/events/abends-bouldern-im-saastal-anmeldung-ab-01-
 07-2026/
SUMMARY:Abends - Bouldern im Saastal / Anmeldung ab 01.07.2026
DESCRIPTION:&nbsp\;\n\n\n\nAnmeldung ab:\n01.07.2025\n\n\nSchwierigkeit\nab
  5a\n\n\nEckdaten\n\n\n\nAusrüstung\nKletterfinken und Magnesium\n\n\nTre
 ffpunkt\nwird noch bekannt gegeben\n\n\nTeilnehmerzahl\n10\n\n\n\n&nbsp\;
CATEGORIES:Klettern,SAC Tour
END:VEVENT
BEGIN:VTIMEZONE
TZID:Europe/Zurich
X-LIC-LOCATION:Europe/Zurich
BEGIN:DAYLIGHT
DTSTART:20260329T030000
TZOFFSETFROM:+0100
TZOFFSETTO:+0200
TZNAME:CEST
END:DAYLIGHT
END:VTIMEZONE
END:VCALENDAR