BEGIN:VCALENDAR
VERSION:2.0
PRODID:-//wp-events-plugin.com//7.2.3.1//EN
TZID:Europe/Zurich
X-WR-TIMEZONE:Europe/Zurich
BEGIN:VEVENT
UID:216@sac-saas.ch
DTSTART;TZID=Europe/Zurich;VALUE=DATE:20241004
DTEND;TZID=Europe/Zurich;VALUE=DATE:20241005
DTSTAMP:20240906T161629Z
URL:https://sac-saas.ch/events/9-seenwanderung-anmeldung-ab-06-08-2024/
SUMMARY:9-Seenwanderung / Neues Datum
DESCRIPTION:Auf und ab\, Tal um Tal\, See um See... Es ist eine lange\, abe
 r wunderschöne Tour. Mit der Anstrengung steigt die landschaftliche Attra
 ktivität. Weit oberhalb des Goms führt der 9 Seen-Weg vom Grimselpass ü
 ber einen Pfad mit alpinem Charakter zum Trützisee und von dort hinunter 
 nach Geschinen. Neben gewaltigen Ausblicken auf die Berglandschaft zeichne
 t sich diese Wanderung vor allem durch seine 9 herrlichen Bergseen aus! Sp
 ätestens beim letzten See ist der Sprung in den klaren Bergsee zu empfehl
 en... diese Wanderung wird Deine Bergseensucht eindeutig stillen.\n\n\n\nA
 nmeldung möglich ab:\n05.08.2024\n\n\nSchwierigkeit\nT3\n\n\nEckdaten\n 
 ↑ 800Hm  ↓ 1600Hm -&gt\; 7h\n\n\nAusrüstung\nWanderausrüstung\, Ver
 pflegung\, Badesachen (-:\n\n\nTreffpunkt\nBrig 07:15 Uhr Gleis 11 (Abfahr
 t Zug 07:23Uhr)\n\n\nTeilnehmerzahl\n6 TN  und TL\n\n\n\n&nbsp\;
CATEGORIES:SAC Tour
END:VEVENT
BEGIN:VTIMEZONE
TZID:Europe/Zurich
X-LIC-LOCATION:Europe/Zurich
BEGIN:DAYLIGHT
DTSTART:20240331T030000
TZOFFSETFROM:+0100
TZOFFSETTO:+0200
TZNAME:CEST
END:DAYLIGHT
END:VTIMEZONE
END:VCALENDAR