BEGIN:VCALENDAR
VERSION:2.0
PRODID:-//wp-events-plugin.com//7.2.3.1//EN
TZID:Europe/Zurich
X-WR-TIMEZONE:Europe/Zurich
BEGIN:VEVENT
UID:349@sac-saas.ch
DTSTART;TZID=Europe/Zurich;VALUE=DATE:20240818
DTEND;TZID=Europe/Zurich;VALUE=DATE:20240819
DTSTAMP:20240815T201119Z
URL:https://sac-saas.ch/events/35-jahre-sac-saas-anmeldung-ab-01-07-2024/
SUMMARY:35 Jahre SAC Saas / Abgesagt
DESCRIPTION:Wir müssen leider unsere Jubiläumsfeier absagen. Der Wetterbe
 richt sagt für den Sonntag Regen\, Kälte und Wind voraus. Alles andere a
 ls ideal\, gemütlich in der freien Natur zusammen zu sein. Aufgeschoben i
 st aber nicht aufgehoben. Wir werden im 2025 das 36-jährige Jubiläum auf
  der Grubenalp feiern. \n\nDer Vorstand bedankt sich bei allen Angemeldet
 en\, Küchenbäcker\, Dessertbringer\, Wanderleiter\, Velobegleiter und Un
 terstützer. \n\nWir sehen uns auf der nächsten Tour oder dann späteste
 ns an der GV Ende November in Saas-Grund\n\n&nbsp\;\n\n35 Jahre SAC Saas 
 – So. 18.08.2024\n\nUnsere Sektion SAC-Saas kann auf 35 Jahre zurücksch
 auen. Ein kleines aber feines Jubiläum.\n\nDer Vorstand lädt alle Verein
 smitglieder zu einem gemütlichen Tag auf der Grubenalp ein. Die Anreise k
 ann individuell erfolgen oder ihr schliesst euch einer unserer Tourenleite
 r an.\n\nDas Programm sieht wie folgt aus:\n\nCa. 11.30 Uhr Eintreffen auf
  der Clubhütte Grubenalp – kleines Apero\n\n12.30 Uhr – Mittagessen m
 it feine Grillanden und diversen Salaten\n\nAb 13.30 Uhr – Ansprache\, S
 piel und Spass\n\nAb 16.00 Uhr – Ausklang und Abmarsch talwärts\n\n&nbs
 p\;\n\nWir bieten diverse Routen zur Grubenalp an. Bitte bei der Anmeldung
  das entsprechende Ticket auf unserer Homepage verwenden oder sich bei uns
 erem Präsidenten Samel Anthamatten melden (info@sac-saas.ch / 079 799 95 
 56)\n\nKreuzboden – Grubenalp\nMit Brigitte und Hugo - Start ab Kreuzbod
 en um 10.00 Uhr\n\nGspon – Grubenalp\nMit Toni und Erna - Start ab Gspon
  um 09.30 Uhr\n\nVelo - Saas-Balen / Grubenalp\nMit Egon und Mario - Start
  ab Saas-Balen um 10.00 Uhr\n\nLeiterweg - Kreuzboden/Weismieshütte/"Ze D
 ri Seewjine"/Grubenalp\nMüssen wir auf Grund des beschädigten Wegs storn
 ieren\n\n&nbsp\;\n\nWichtige Hinweise:\n\n 	Der Vorstand bittet um Anmeldu
 ng entweder über die Homepage oder beim Präsidenten. Der Vorstand möcht
 e sicherstellen\, dass genügend Tische\, Stühle\, Getränke etc. vorhand
 en sind.\n 	Es gibt keine Schlechtwetter-Variante. Sollte das Wetter uns e
 inen Strich durch die Rechnung machen\, werden wir vorgängig am Do. 15.08
 .2024 auf unserer Homepage informieren.\n 	Aus Umweltgründen bitten wir a
 lle Teilnehmer ihr eigenes Teller\, Besteck und Becher mitzunehmen. So mü
 ssen wir nicht unnötig Plastik entsorgen.\n 	Wer Kuchen\, Kekse oder ande
 re Süssigkeiten für das Dessert mitbringen will\, kann das bei der Anmel
 dung unter «Kommentar» angeben\n 	Wer lieber mit dem Auto hoch und/oder 
 zurückfahren will\, soll sich im entsprechenden Ticket eintragen.\n\nDer 
 Vorstand freut sich auf einen geselligen Tag mit all unseren Vereinsmitgli
 edern.\n\n&nbsp\;
CATEGORIES:SAC Tour
END:VEVENT
BEGIN:VTIMEZONE
TZID:Europe/Zurich
X-LIC-LOCATION:Europe/Zurich
BEGIN:DAYLIGHT
DTSTART:20240331T030000
TZOFFSETFROM:+0100
TZOFFSETTO:+0200
TZNAME:CEST
END:DAYLIGHT
END:VTIMEZONE
END:VCALENDAR