BEGIN:VCALENDAR
VERSION:2.0
PRODID:-//wp-events-plugin.com//7.2.3.1//EN
TZID:Europe/Zurich
X-WR-TIMEZONE:Europe/Zurich
BEGIN:VEVENT
UID:21@sac-saas.ch
DTSTART;TZID=Europe/Zurich:20221126T151500
DTEND;TZID=Europe/Zurich:20221126T220000
DTSTAMP:20221125T104117Z
URL:https://sac-saas.ch/events/30-generalversammlung-sac-saas-in-saas-fee/
SUMMARY:30. Generalversammlung SAC Saas in Saas-Fee
DESCRIPTION:Am Samstag 26.11. findet die 30. Generalversammlung unserer Sek
 tion statt. Die GV findet in der Turnhalle der Gemeinde Saas-Fee statt.\nI
 hr könnt euch auch über die Homepage anmelden. Ihr bekommt nach der Anm
 eldung eine Bestätigungsemail sowie auch ein Login mit Passwort\, welches
  ihr für die Anmeldung kommender Touren/Veranstaltungen benötigt. Falls 
 jemand keine Email-Adresse hat\, bitte eine SMS oder What's Up-Nachricht a
 n Samuel Anthamatten (079 799 95 56) senden. Abmeldungen/Entschuldigungen 
 können ebenfalls über das Kommentarfeld der Homepage gemacht werden.\nBi
 tte bei der Anmeldung angeben\, ob ihr auch am Vortrag dabei seid und fall
 s beim Essen vegetarisch erwünscht ist.\nDer spannende Vortrag startet um
  15.30 Uhr.\nAUSzeit\nLothar Supersaxo\, Manager\, ehemaliger Triathlet\, 
 Abenteurer und Lebenskünstler nimmt Sie bei seinem Vortrag " AUSzeit " mi
 t zum kältesten Weltberg\, den Denali in Alaska\, in den Dschungel Papua 
 Neuguineas\, zu den Mahuts nach Thailand\, auf den magischen St.Jakobsweg 
 nach Santiago de Compostela und auf eine Schwimm-Expedition durch das Wass
 erschloss Europas.\n\nProgramm GV 2022\n15:15 Türöffnung\n\n15:30 – 1
 6:30 Vortrag\n\n17:00 – 19:15 Geschäftlicher Teil der GV mit folgende
 n Traktanden\n\n 	Begrüssung\n 	Wahl der Stimmenzähler\n 	Protokoll der 
 GV 2021 (einsehbar unter www.sac-saas.ch)\n 	Jahresbericht des Präsidente
 n\n 	Aufnahme neuer Mitglieder / Austritte / Ehrungen\n 	Mitglied des Jahr
 es\n 	Berichte der Ressortchefs\n 	Kassa- und Revisorenbericht\n 	Anpassun
 g Tourenreglement - Vorschlag Vorstand Art.22\n 	Wahlen\n 	Verschiedenes\n
 \n19:30 Apéro\n\n20:00 Feines Nachtessen\n\n&nbsp\;\n\nWir freuen uns 
 über ein zahlreiches Kommen und ein paar gesellige Vereinsstunden.\n\n&nb
 sp\;\n\n\n\nPro Teilnehmer ein Eintrag mit Name\, Vorname und Handynummer.
  Anmeldung ab 07:00 Uhr am:\n\n\n\n26.10.2022\n\n\n\n
CATEGORIES:Clubanlass
END:VEVENT
BEGIN:VTIMEZONE
TZID:Europe/Zurich
X-LIC-LOCATION:Europe/Zurich
BEGIN:STANDARD
DTSTART:20221030T020000
TZOFFSETFROM:+0200
TZOFFSETTO:+0100
TZNAME:CET
END:STANDARD
END:VTIMEZONE
END:VCALENDAR