BEGIN:VCALENDAR
VERSION:2.0
PRODID:-//wp-events-plugin.com//7.2.3.1//EN
TZID:Europe/Zurich
X-WR-TIMEZONE:Europe/Zurich
BEGIN:VEVENT
UID:19@sac-saas.ch
DTSTART;TZID=Europe/Zurich;VALUE=DATE:20230814
DTEND;TZID=Europe/Zurich;VALUE=DATE:20230816
DTSTAMP:20230813T165224Z
URL:https://sac-saas.ch/events/2023dri-hoernli-sonnighorn/
SUMMARY:Dri Hörnli /Sonnighorn / Anmeldung ab 14.07.2023
DESCRIPTION:Am ersten Tag Aufstieg zur Almagellerhütte (ca. 4 Std) und Üb
 erschreitung der Dri Hörnli - Klettertour (ca. 4 Std) . Am zweiten Tag Ü
 berschreitung Sonnighorn (ca. 5 Std) und Abstieg nach Heidbodmen (ca. 3-4 
 Std)\n\n\n\nAnmeldung möglich ab:\n14.07.2023\, 07:00\n\n\nSchwierigkeit\
 n1. Tag ZS 3b / 2. Tag WS 2a\n\n\nEckdaten\n↑1200\; ↑600 ↓1100\n\n\n
 Ausrüstung\nHochtourenausrüstung inkl. Helm\, Klettergut\, Selbstsicheru
 ngsschlinge\, Abseilgerät\, 2 Sicherungskarabiner\, (Magic-Pass für Berg
 bahnen falls vorhanden)\nFür Seilführer zusätzlich: 40m Seil\, 3-4 Frie
 nds\, Bandschlingen\, 4 Exen \nWir klettern alles mit den Bergschuhen. St
 eigen und Pickel sind nicht notwendig\n\n\nTreffpunkt\nSaas-Almagell\, neu
  07.00 Uhr Dorfplatz\n\n\n\nTeilnehmerzahl\n8 inkl. 3 Tourenleiter\n\n\n\n
 &nbsp\;
CATEGORIES:SAC Tour
END:VEVENT
BEGIN:VTIMEZONE
TZID:Europe/Zurich
X-LIC-LOCATION:Europe/Zurich
BEGIN:DAYLIGHT
DTSTART:20230326T030000
TZOFFSETFROM:+0100
TZOFFSETTO:+0200
TZNAME:CEST
END:DAYLIGHT
END:VTIMEZONE
END:VCALENDAR