BEGIN:VCALENDAR
VERSION:2.0
PRODID:-//wp-events-plugin.com//7.2.3.1//EN
TZID:Europe/Zurich
X-WR-TIMEZONE:Europe/Zurich
BEGIN:VEVENT
UID:43@sac-saas.ch
DTSTART;TZID=Europe/Zurich;VALUE=DATE:20230709
DTEND;TZID=Europe/Zurich;VALUE=DATE:20230710
DTSTAMP:20230705T170211Z
URL:https://sac-saas.ch/events/2023bouldernimsaastal/
SUMMARY:Bouldern im Saastal / Anmeldung ab 10.06.2023 - noch freie Plätze
DESCRIPTION:Einführung und Grundlagen des Bouldern.\n\n\n\nAnmeldung mögl
 ich ab:\n10.06.2023\, 07:00\n\n\nSchwierigkeit\n5a - 7a\n\n\nEckdaten\n 
 ↑ xxx Hm  ↓ xxx Hm -&gt\; x h\n\n\nAusrüstung\nKletterfinken und Mag
 nesium und Verpfelegung\n\n\nTreffpunkt\n10.00 Uhr in Saas-Grund bei der T
 alstation Hohsaas\n\n\nTeilnehmerzahl\n10\n\n\n\n&nbsp\;
CATEGORIES:SAC Tour
END:VEVENT
BEGIN:VTIMEZONE
TZID:Europe/Zurich
X-LIC-LOCATION:Europe/Zurich
BEGIN:DAYLIGHT
DTSTART:20230326T030000
TZOFFSETFROM:+0100
TZOFFSETTO:+0200
TZNAME:CEST
END:DAYLIGHT
END:VTIMEZONE
END:VCALENDAR